{
 "currentVersion": 11.5,
 "serviceDescription": "DEM_UAS/MartenCreekLowElev_tif",
 "serviceItemId": "f698f3ec177347a6a9ef385d6a0df072",
 "name": "DEM_UAS/MartenCreekLowElev_tif",
 "description": "",
 "extent": {
  "xmin": 603694.1736300001,
  "ymin": 5325018.07232,
  "xmax": 603848.72059,
  "ymax": 5325243.5184,
  "spatialReference": {
   "wkid": 32610,
   "latestWkid": 32610
  }
 },
 "initialExtent": {
  "xmin": 603694.1736300001,
  "ymin": 5325018.07232,
  "xmax": 603848.72059,
  "ymax": 5325243.5184,
  "spatialReference": {
   "wkid": 32610,
   "latestWkid": 32610
  }
 },
 "fullExtent": {
  "xmin": 603694.1736300001,
  "ymin": 5325018.07232,
  "xmax": 603848.72059,
  "ymax": 5325243.5184,
  "spatialReference": {
   "wkid": 32610,
   "latestWkid": 32610
  }
 },
 "sortableFields": "",
 "bandCount": 4,
 "pixelType": "U8",
 "minValues": [
  1,
  1,
  1,
  255
 ],
 "maxValues": [
  255,
  255,
  255,
  255
 ],
 "meanValues": [
  98.991708627053,
  101.22915338966,
  94.654916208722,
  255
 ],
 "stdvValues": [
  37.460805309463,
  39.177975623671,
  40.951415920964,
  0
 ],
 "serviceProperties": "Center<\/MosaicMethod>First<\/MosaicOperator>true<\/SortAscending><\/LockImageID><\/TileOrderField>0<\/TileOrderBase>0.000000<\/AvgImageSpacingX>0.000000<\/AvgImageSpacingY>0.0<\/ViewPointX>0.0<\/ViewPointY>0.0<\/ViewPointDefShiftX>0.0<\/ViewPointDefShiftY>None<\/CompressionMethod>75<\/CompressionQuality>0.010000<\/CompressionTolerance>Bilinear<\/SamplingMethod><\/ImageServiceProperties><\/ImageServer>",
 "allowedFields": "",
 "hasMultidimensions": false,
 "pixelSizeX": 0.004719999999998435,
 "pixelSizeY": 0.004720000000002927,
 "meanPixelSize": 0.00472000000000068,
 "datasetFormat": "TIFF",
 "uncompressedSize": 6255615636,
 "blockWidth": 128,
 "blockHeight": 128,
 "compressionType": "None",
 "bandNames": [
  "Band_1",
  "Band_2",
  "Band_3",
  "Band_4"
 ],
 "allowCopy": true,
 "allowAnalysis": true,
 "itemAccess": false,
 "inspectionCapabilities": "",
 "noDataValue": 0,
 "noDataValues": [
  0,
  0,
  0,
  0
 ],
 "minPixelSize": 0,
 "maxPixelSize": 0,
 "copyrightText": "",
 "serviceDataType": "esriImageServiceDataTypeGeneric",
 "serviceSourceType": "esriImageServiceSourceTypeDataset",
 "objectIdField": "",
 "fields": [],
 "capabilities": "Image,Metadata,Mensuration",
 "defaultMosaicMethod": "Center",
 "allowedMosaicMethods": "",
 "sortField": "",
 "sortValue": null,
 "sortAscending": true,
 "mosaicOperator": "First",
 "defaultCompressionQuality": 75,
 "defaultResamplingMethod": "Bilinear",
 "maxImageHeight": 4100,
 "maxImageWidth": 15000,
 "allowRasterFunction": true,
 "rasterFunctionInfos": [
  {
   "name": "None",
   "description": "",
   "help": ""
  }
 ],
 "rasterTypeInfos": [
  {
   "name": "Raster Dataset",
   "description": "Supports all ArcGIS Raster Datasets",
   "help": ""
  }
 ],
 "mensurationCapabilities": "Basic",
 "hasHistograms": true,
 "hasColormap": false,
 "hasRasterAttributeTable": false,
 "minScale": 0,
 "maxScale": 0,
 "exportTilesAllowed": false,
 "supportsStatistics": false,
 "supportsAdvancedQueries": false,
 "editFieldsInfo": null,
 "ownershipBasedAccessControlForRasters": null,
 "allowComputeTiePoints": false,
 "useStandardizedQueries": true,
 "advancedQueryCapabilities": {
  "useStandardizedQueries": true,
  "supportsStatistics": false,
  "supportsOrderBy": false,
  "supportsDistinct": false,
  "supportsPagination": false
 },
 "spatialReference": {
  "wkid": 32610,
  "latestWkid": 32610
 }
}
