{
 "currentVersion": 11.5,
 "serviceDescription": "DEM_UAS/OsoMemorial_16FEB2024_Clip",
 "serviceItemId": "276c27504f37405492690de85ce49d54",
 "name": "DEM_UAS/OsoMemorial_16FEB2024_Clip",
 "description": "",
 "extent": {
  "xmin": 585765.6037999997,
  "ymin": 5347646.273700001,
  "xmax": 586041.7562999995,
  "ymax": 5347842.907199999,
  "spatialReference": {
   "wkid": 32610,
   "latestWkid": 32610
  }
 },
 "initialExtent": {
  "xmin": 585765.6037999997,
  "ymin": 5347646.273700001,
  "xmax": 586041.7562999995,
  "ymax": 5347842.907199999,
  "spatialReference": {
   "wkid": 32610,
   "latestWkid": 32610
  }
 },
 "fullExtent": {
  "xmin": 585765.6037999997,
  "ymin": 5347646.273700001,
  "xmax": 586041.7562999995,
  "ymax": 5347842.907199999,
  "spatialReference": {
   "wkid": 32610,
   "latestWkid": 32610
  }
 },
 "sortableFields": "",
 "bandCount": 4,
 "pixelType": "U8",
 "minValues": [
  0,
  0,
  0,
  255
 ],
 "maxValues": [
  255,
  255,
  255,
  255
 ],
 "meanValues": [
  87.822930479847,
  87.880306666391,
  83.263921340599,
  255
 ],
 "stdvValues": [
  59.381198233244,
  57.386481480843,
  54.049866543127,
  0
 ],
 "serviceProperties": "Center<\/MosaicMethod>First<\/MosaicOperator>true<\/SortAscending><\/LockImageID><\/TileOrderField>0<\/TileOrderBase>0.000000<\/AvgImageSpacingX>0.000000<\/AvgImageSpacingY>0.0<\/ViewPointX>0.0<\/ViewPointY>0.0<\/ViewPointDefShiftX>0.0<\/ViewPointDefShiftY>None<\/CompressionMethod>75<\/CompressionQuality>0.010000<\/CompressionTolerance>Bilinear<\/SamplingMethod><\/ImageServiceProperties><\/ImageServer>",
 "allowedFields": "",
 "hasMultidimensions": false,
 "pixelSizeX": 0.007459951915280431,
 "pixelSizeY": 0.007459823968989692,
 "meanPixelSize": 0.007459887942135061,
 "datasetFormat": "TIFF",
 "uncompressedSize": 3903029848,
 "blockWidth": 128,
 "blockHeight": 128,
 "compressionType": "None",
 "bandNames": [
  "Band_1",
  "Band_2",
  "Band_3",
  "Band_4"
 ],
 "allowCopy": true,
 "allowAnalysis": true,
 "itemAccess": false,
 "inspectionCapabilities": "",
 "noDataValue": 1,
 "noDataValues": [
  1,
  1,
  1,
  1
 ],
 "minPixelSize": 0,
 "maxPixelSize": 0,
 "copyrightText": "",
 "serviceDataType": "esriImageServiceDataTypeGeneric",
 "serviceSourceType": "esriImageServiceSourceTypeDataset",
 "objectIdField": "",
 "fields": [],
 "capabilities": "Image,Metadata,Mensuration",
 "defaultMosaicMethod": "Center",
 "allowedMosaicMethods": "",
 "sortField": "",
 "sortValue": null,
 "sortAscending": true,
 "mosaicOperator": "First",
 "defaultCompressionQuality": 75,
 "defaultResamplingMethod": "Bilinear",
 "maxImageHeight": 4100,
 "maxImageWidth": 15000,
 "allowRasterFunction": true,
 "rasterFunctionInfos": [
  {
   "name": "None",
   "description": "",
   "help": ""
  }
 ],
 "rasterTypeInfos": [
  {
   "name": "Raster Dataset",
   "description": "Supports all ArcGIS Raster Datasets",
   "help": ""
  }
 ],
 "mensurationCapabilities": "Basic",
 "hasHistograms": true,
 "hasColormap": false,
 "hasRasterAttributeTable": false,
 "minScale": 0,
 "maxScale": 0,
 "exportTilesAllowed": false,
 "supportsStatistics": false,
 "supportsAdvancedQueries": false,
 "editFieldsInfo": null,
 "ownershipBasedAccessControlForRasters": null,
 "allowComputeTiePoints": false,
 "useStandardizedQueries": true,
 "advancedQueryCapabilities": {
  "useStandardizedQueries": true,
  "supportsStatistics": false,
  "supportsOrderBy": false,
  "supportsDistinct": false,
  "supportsPagination": false
 },
 "spatialReference": {
  "wkid": 32610,
  "latestWkid": 32610
 }
}
