<?xml version="1.0" encoding="UTF-8" standalone="no"?>
<metadata xml:lang="en">
<Esri>
<MetaID>{04E88132-9E4D-11D6-827F-009027A431A0}</MetaID>
<CreaDate>20020723</CreaDate>
<CreaTime>08423300</CreaTime>
<SyncOnce>FALSE</SyncOnce>
<SyncDate>20020723</SyncDate>
<SyncTime>08423300</SyncTime>
<ModDate>20020723</ModDate>
<ModTime>08423300</ModTime>
</Esri>
<idinfo>
<native Sync="TRUE">Microsoft Windows NT Version 4.0 (Build 1381) Service Pack 6; ESRI ArcCatalog 8.1.2.671</native>
<descript>
<langdata Sync="TRUE">en</langdata>
<abstract>REQUIRED: A brief narrative summary of the data set.</abstract>
<purpose>REQUIRED: A summary of the intentions with which the data set was developed.</purpose>
</descript>
<citation>
<citeinfo>
<origin>REQUIRED: The name of an organization or individual that developed the data set.</origin>
<pubdate>REQUIRED: The date when the data set is published or otherwise made available for release.</pubdate>
<title Sync="TRUE">Ortho2001_full.sid</title>
<ftname Sync="TRUE">Ortho2001_full.sid</ftname>
<geoform Sync="TRUE">remote-sensing image</geoform>
<onlink Sync="TRUE">\\APSRV36\gis_ortho\2001\b-w\1ft_res\pud\Ortho2001_full.sid</onlink>
</citeinfo>
</citation>
<timeperd>
<current>REQUIRED: The basis on which the time period of content information is determined.</current>
<timeinfo>
<sngdate>
<caldate>REQUIRED: The year (and optionally month, or month and day) for which the data set corresponds to the ground.</caldate>
</sngdate>
</timeinfo>
</timeperd>
<status>
<progress>REQUIRED: The state of the data set.</progress>
<update>REQUIRED: The frequency with which changes and additions are made to the data set after the initial data set is completed.</update>
</status>
<spdom>
<bounding>
<westbc Sync="TRUE">-122.544896</westbc>
<eastbc Sync="TRUE">-121.452679</eastbc>
<northbc Sync="TRUE">48.354965</northbc>
<southbc Sync="TRUE">47.754885</southbc>
</bounding>
<lboundng>
<leftbc Sync="TRUE">1224217.500000</leftbc>
<rightbc Sync="TRUE">1488102.500000</rightbc>
<bottombc Sync="TRUE">279934.500000</bottombc>
<topbc Sync="TRUE">494876.500000</topbc>
</lboundng>
</spdom>
<keywords>
<theme>
<themekt>REQUIRED: Reference to a formally registered thesaurus or a similar authoritative source of theme keywords.</themekt>
<themekey>REQUIRED: Common-use word or phrase used to describe the subject of the data set.</themekey>
</theme>
</keywords>
<accconst>REQUIRED: Restrictions and legal prerequisites for accessing the data set.</accconst>
<useconst>REQUIRED: Restrictions and legal prerequisites for using the data set after access is granted.</useconst>
<natvform Sync="TRUE">Raster Dataset</natvform>
</idinfo>
<metainfo>
<langmeta Sync="TRUE">en</langmeta>
<metstdn Sync="TRUE">FGDC Content Standards for Digital Geospatial Metadata</metstdn>
<metstdv Sync="TRUE">FGDC-STD-001-1998</metstdv>
<mettc Sync="TRUE">local time</mettc>
<metextns>
<onlink Sync="TRUE">http://www.esri.com/metadata/esriprof80.html</onlink>
<metprof Sync="TRUE">ESRI Metadata Profile</metprof>
</metextns>
<metc>
<cntinfo>
<cntorgp>
<cntper>REQUIRED: The person responsible for the metadata information.</cntper>
<cntorg>REQUIRED: The organization responsible for the metadata information.</cntorg>
</cntorgp>
<cntaddr>
<addrtype>REQUIRED: The mailing and/or physical address for the organization or individual.</addrtype>
<city>REQUIRED: The city of the address.</city>
<state>REQUIRED: The state or province of the address.</state>
<postal>REQUIRED: The ZIP or other postal code of the address.</postal>
</cntaddr>
<cntvoice>REQUIRED: The telephone number by which individuals can speak to the organization or individual.</cntvoice>
</cntinfo>
</metc>
<metd Sync="TRUE">20020723</metd>
</metainfo>
<spdoinfo>
<direct Sync="TRUE">Raster</direct>
<rastinfo>
<rasttype Sync="TRUE">Pixel</rasttype>
<rowcount Sync="TRUE">214942</rowcount>
<colcount Sync="TRUE">263885</colcount>
<rastxsz Sync="TRUE">1.000000</rastxsz>
<rastysz Sync="TRUE">1.000000</rastysz>
<rastbpp Sync="TRUE">8</rastbpp>
<vrtcount Sync="TRUE">1</vrtcount>
<rastorig Sync="TRUE">Upper Left</rastorig>
<rastcmap Sync="TRUE">FALSE</rastcmap>
<rastcomp Sync="TRUE">Wavelet</rastcomp>
<rastband Sync="TRUE">1</rastband>
<rastdtyp Sync="TRUE">pixel codes</rastdtyp>
<rastplyr Sync="TRUE">TRUE</rastplyr>
<rastifor Sync="TRUE">MrSID</rastifor>
</rastinfo>
</spdoinfo>
<spref>
<horizsys>
<cordsysn>
<geogcsn Sync="TRUE">GCS_North_American_1983</geogcsn>
<projcsn Sync="TRUE">NAD_1983_StatePlane_Washington_North_FIPS_4601</projcsn>
</cordsysn>
<planar>
<mapproj>
<mapprojn Sync="TRUE">Lambert Conformal Conic</mapprojn>
<lambertc>
<stdparll Sync="TRUE">47.500000</stdparll>
<stdparll Sync="TRUE">48.733333</stdparll>
<longcm Sync="TRUE">-120.833333</longcm>
<latprjo Sync="TRUE">47.000000</latprjo>
<feast Sync="TRUE">1640416.666667</feast>
<fnorth Sync="TRUE">0.000000</fnorth>
</lambertc>
</mapproj>
<planci>
<plance Sync="TRUE">row and column</plance>
<plandu Sync="TRUE">survey feet</plandu>
<coordrep>
<absres Sync="TRUE">1.000000</absres>
<ordres Sync="TRUE">1.000000</ordres>
</coordrep>
</planci>
</planar>
<geodetic>
<horizdn Sync="TRUE">North American Datum of 1983</horizdn>
<ellips Sync="TRUE">Geodetic Reference System 80</ellips>
<semiaxis Sync="TRUE">6378137.000000</semiaxis>
<denflat Sync="TRUE">298.257222</denflat>
</geodetic>
</horizsys>
</spref>
<eainfo>
<detailed Name="Band_1">
<enttyp>
<enttypl Sync="TRUE">Band_1</enttypl>
<enttypt Sync="TRUE">Table</enttypt>
<enttypc Sync="TRUE">256</enttypc>
</enttyp>
<attr>
<attrlabl Sync="TRUE">ObjectID</attrlabl>
<attalias Sync="TRUE">ObjectID</attalias>
<attrtype Sync="TRUE">OID</attrtype>
<attwidth Sync="TRUE">4</attwidth>
<atprecis Sync="TRUE">0</atprecis>
<attscale Sync="TRUE">0</attscale>
</attr>
<attr>
<attrlabl Sync="TRUE">Value</attrlabl>
<attalias Sync="TRUE">Value</attalias>
<attrtype Sync="TRUE">Integer</attrtype>
<attwidth Sync="TRUE">0</attwidth>
<atprecis Sync="TRUE">0</atprecis>
<attscale Sync="TRUE">0</attscale>
</attr>
<attr>
<attrlabl Sync="TRUE">Count</attrlabl>
<attalias Sync="TRUE">Count</attalias>
<attrtype Sync="TRUE">Integer</attrtype>
<attwidth Sync="TRUE">0</attwidth>
<atprecis Sync="TRUE">0</atprecis>
<attscale Sync="TRUE">0</attscale>
</attr>
</detailed>
</eainfo>
<distinfo>
<stdorder>
<digform>
<digtinfo>
<transize Sync="TRUE">819.372</transize>
<dssize Sync="TRUE">819.372</dssize>
</digtinfo>
</digform>
</stdorder>
</distinfo>
<dataIdInfo>
<idAbs/>
<searchKeys>
<keyword>Aerial</keyword>
<keyword>2001</keyword>
<keyword>orthophoto</keyword>
</searchKeys>
<idPurp>Aerial imagery of Snohomish County, Washington, USA, collected in 2001. Imagery is black and white (b/w) with a stretched grayscale colorramp. Production of the aerial photos was done by ETG incorporated for Snohomish Public Utility District No. 1.</idPurp>
<idCredit/>
<resConst>
<Consts>
<useLimit/>
</Consts>
</resConst>
<idCitation>
<resTitle>Aerial_2001</resTitle>
</idCitation>
</dataIdInfo>
</metadata>
