{
 "currentVersion": 11.5,
 "serviceDescription": "Imagery/Aerial_2007",
 "serviceItemId": "f5c42c3acb5d4d678bc63840b1a166e5",
 "name": "Imagery/Aerial_2007",
 "description": "",
 "extent": {
  "xmin": 1253999.9999998764,
  "ymin": 282000.99999455287,
  "xmax": 1517998.9999998764,
  "ymax": 479999.9999945528,
  "spatialReference": {
   "wkid": 102748,
   "latestWkid": 2285
  }
 },
 "initialExtent": {
  "xmin": 1253999.9999998764,
  "ymin": 282000.99999455287,
  "xmax": 1517998.9999998764,
  "ymax": 479999.9999945528,
  "spatialReference": {
   "wkid": 102748,
   "latestWkid": 2285
  }
 },
 "fullExtent": {
  "xmin": 1253999.9999998764,
  "ymin": 282000.99999455287,
  "xmax": 1517998.9999998764,
  "ymax": 479999.9999945528,
  "spatialReference": {
   "wkid": 102748,
   "latestWkid": 2285
  }
 },
 "sortableFields": "",
 "bandCount": 3,
 "pixelType": "U8",
 "minValues": [
  0,
  0,
  4
 ],
 "maxValues": [
  255,
  255,
  255
 ],
 "meanValues": [
  106.35039246468,
  118.37739403454,
  114.46028257457
 ],
 "stdvValues": [
  79.62497845352,
  73.38092346469,
  75.076039372307
 ],
 "serviceProperties": "Center<\/MosaicMethod>First<\/MosaicOperator>true<\/SortAscending><\/LockImageID><\/TileOrderField>0<\/TileOrderBase>0.000000<\/AvgImageSpacingX>0.000000<\/AvgImageSpacingY>0.0<\/ViewPointX>0.0<\/ViewPointY>0.0<\/ViewPointDefShiftX>0.0<\/ViewPointDefShiftY>None<\/CompressionMethod>75<\/CompressionQuality>0.010000<\/CompressionTolerance>Bilinear<\/SamplingMethod><\/ImageServiceProperties><\/ImageServer>",
 "allowedFields": "",
 "hasMultidimensions": false,
 "pixelSizeX": 1,
 "pixelSizeY": 0.9999999999999997,
 "meanPixelSize": 0.3048006096012192,
 "datasetFormat": "MrSID",
 "uncompressedSize": 156814614003,
 "blockWidth": 1024,
 "blockHeight": 128,
 "compressionType": "Wavelet (MG3)",
 "bandNames": [
  "Band_1",
  "Band_2",
  "Band_3"
 ],
 "allowCopy": true,
 "allowAnalysis": true,
 "itemAccess": false,
 "inspectionCapabilities": "",
 "minPixelSize": 0,
 "maxPixelSize": 0,
 "copyrightText": "",
 "serviceDataType": "esriImageServiceDataTypeRGB",
 "serviceSourceType": "esriImageServiceSourceTypeDataset",
 "objectIdField": "",
 "fields": [],
 "capabilities": "Image,Metadata,Mensuration",
 "defaultMosaicMethod": "Center",
 "allowedMosaicMethods": "",
 "sortField": "",
 "sortValue": null,
 "sortAscending": true,
 "mosaicOperator": "First",
 "defaultCompressionQuality": 75,
 "defaultResamplingMethod": "Bilinear",
 "maxImageHeight": 4100,
 "maxImageWidth": 15000,
 "allowRasterFunction": true,
 "rasterFunctionInfos": [
  {
   "name": "None",
   "description": "",
   "help": ""
  }
 ],
 "rasterTypeInfos": [
  {
   "name": "Raster Dataset",
   "description": "Supports all ArcGIS Raster Datasets",
   "help": ""
  }
 ],
 "mensurationCapabilities": "Basic",
 "hasHistograms": true,
 "hasColormap": false,
 "hasRasterAttributeTable": false,
 "minScale": 0,
 "maxScale": 0,
 "exportTilesAllowed": false,
 "supportsStatistics": false,
 "supportsAdvancedQueries": false,
 "editFieldsInfo": null,
 "ownershipBasedAccessControlForRasters": null,
 "allowComputeTiePoints": false,
 "useStandardizedQueries": true,
 "advancedQueryCapabilities": {
  "useStandardizedQueries": true,
  "supportsStatistics": false,
  "supportsOrderBy": false,
  "supportsDistinct": false,
  "supportsPagination": false
 },
 "spatialReference": {
  "wkid": 102748,
  "latestWkid": 2285
 }
}
