<?xml version="1.0" encoding="UTF-8" standalone="no"?>
<metadata xml:lang="en">
<Esri>
<CreaDate>20120820</CreaDate>
<CreaTime>16322800</CreaTime>
<SyncOnce>FALSE</SyncOnce>
<DataProperties>
<lineage>
<Process Date="20080421" Name="DefineProjection_1" Time="091808" ToolSource="C:\Program Files\ArcGIS\ArcToolbox\Toolboxes\Data Management Tools.tbx\DefineProjection">DefineProjection C:\kate\projects\channel_study\photos\44_lowersaukreach.sid PROJCS['NAD_1927_StatePlane_Washington_North_FIPS_4601',GEOGCS['GCS_North_American_1927',DATUM['D_North_American_1927',SPHEROID['Clarke_1866',6378206.4,294.9786982]],PRIMEM['Greenwich',0.0],UNIT['Degree',0.0174532925199433]],PROJECTION['Lambert_Conformal_Conic'],PARAMETER['False_Easting',2000000.0],PARAMETER['False_Northing',0.0],PARAMETER['Central_Meridian',-120.8333333333333],PARAMETER['Standard_Parallel_1',47.5],PARAMETER['Standard_Parallel_2',48.73333333333333],PARAMETER['Latitude_Of_Origin',47.0],UNIT['Foot_US',0.3048006096012192]] C:\kate\projects\channel_study\photos\44_lowersaukreach.sid</Process>
</lineage>
<itemProps>
<itemLocation>
<linkage Sync="TRUE">file://\\snoco\gis_ortho\1944\b-w\Sauk\44_lowersaukreach.sid</linkage>
<protocol Sync="TRUE">Local Area Network</protocol>
</itemLocation>
</itemProps>
<copyHistory>
<copy date="20120820" dest="\\snoco\gis_ortho\1944\b-w\Sauk\44_lowersaukreach.sid" source="W:\pw\swm\proj\Sauk\Sauk_River_product_from_SRSC\photos_phaseII\44_lowersaukreach.sid" time="16322800"/>
</copyHistory>
</DataProperties>
<SyncDate>20090605</SyncDate>
<SyncTime>12484600</SyncTime>
<ModDate>20090605</ModDate>
<ModTime>12484600</ModTime>
<ArcGISstyle>Item Description</ArcGISstyle>
</Esri>
<idinfo>
<native Sync="TRUE">Microsoft Windows XP Version 5.1 (Build 2600) Service Pack 3; ESRI ArcCatalog 9.2.5.1450</native>
<descript>
<langdata Sync="TRUE">en</langdata>
<abstract>REQUIRED: A brief narrative summary of the data set.</abstract>
<purpose>REQUIRED: A summary of the intentions with which the data set was developed.</purpose>
</descript>
<citation>
<citeinfo>
<origin>REQUIRED: The name of an organization or individual that developed the data set.</origin>
<pubdate>REQUIRED: The date when the data set is published or otherwise made available for release.</pubdate>
<title Sync="TRUE">44_lowersaukreach.sid</title>
<ftname Sync="TRUE">44_lowersaukreach.sid</ftname>
<onlink Sync="TRUE">I:\pw\swm\gis_public\data\Sauk\Sauk_River_product_from_SRSC\photos_phaseII\44_lowersaukreach.sid</onlink>
<geoform Sync="TRUE">raster digital data</geoform>
</citeinfo>
</citation>
<timeperd>
<current>REQUIRED: The basis on which the time period of content information is determined.</current>
<timeinfo>
<sngdate>
<caldate>REQUIRED: The year (and optionally month, or month and day) for which the data set corresponds to the ground.</caldate>
</sngdate>
</timeinfo>
</timeperd>
<status>
<progress>REQUIRED: The state of the data set.</progress>
<update>REQUIRED: The frequency with which changes and additions are made to the data set after the initial data set is completed.</update>
</status>
<spdom>
<bounding>
<westbc Sync="TRUE">-121.600438</westbc>
<eastbc Sync="TRUE">-121.483699</eastbc>
<northbc Sync="TRUE">48.415550</northbc>
<southbc Sync="TRUE">48.321418</southbc>
</bounding>
<lboundng>
<leftbc Sync="TRUE">1813703.363944</leftbc>
<rightbc Sync="TRUE">1841767.668340</rightbc>
<bottombc Sync="TRUE">482944.098626</bottombc>
<topbc Sync="TRUE">517026.515854</topbc>
</lboundng>
</spdom>
<keywords>
<theme>
<themekt>REQUIRED: Reference to a formally registered thesaurus or a similar authoritative source of theme keywords.</themekt>
<themekey>REQUIRED: Common-use word or phrase used to describe the subject of the data set.</themekey>
</theme>
</keywords>
<accconst>REQUIRED: Restrictions and legal prerequisites for accessing the data set.</accconst>
<useconst>REQUIRED: Restrictions and legal prerequisites for using the data set after access is granted.</useconst>
<natvform Sync="TRUE">Raster Dataset</natvform>
</idinfo>
<dataIdInfo>
<envirDesc Sync="TRUE">Microsoft Windows XP Version 5.1 (Build 2600) Service Pack 3; ESRI ArcCatalog 9.2.5.1450</envirDesc>
<dataLang>
<languageCode Sync="TRUE" value="en"/>
</dataLang>
<idCitation>
<resTitle Sync="TRUE">Aerial_Sauk_Lower_1944</resTitle>
<presForm>
<PresFormCd Sync="TRUE" value="005"/>
</presForm>
</idCitation>
<spatRpType>
<SpatRepTypCd Sync="TRUE" value="002"/>
</spatRpType>
<dataExt>
<geoEle>
<GeoBndBox esriExtentType="native">
<westBL Sync="TRUE">1813703.363944</westBL>
<eastBL Sync="TRUE">1841767.66834</eastBL>
<northBL Sync="TRUE">517026.515854</northBL>
<southBL Sync="TRUE">482944.098626</southBL>
<exTypeCode Sync="TRUE">1</exTypeCode>
</GeoBndBox>
</geoEle>
</dataExt>
<geoBox esriExtentType="decdegrees">
<westBL Sync="TRUE">-121.600438</westBL>
<eastBL Sync="TRUE">-121.483699</eastBL>
<northBL Sync="TRUE">48.41555</northBL>
<southBL Sync="TRUE">48.321418</southBL>
<exTypeCode Sync="TRUE">1</exTypeCode>
</geoBox>
<idAbs/>
<idPurp>Georeferenced aerial photos of the Lower Sauk River in Snohomish County, Washington, 1944.</idPurp>
<idCredit/>
<resConst>
<Consts>
<useLimit/>
</Consts>
</resConst>
</dataIdInfo>
<metainfo>
<langmeta Sync="TRUE">en</langmeta>
<metstdn Sync="TRUE">FGDC Content Standards for Digital Geospatial Metadata</metstdn>
<metstdv Sync="TRUE">FGDC-STD-001-1998</metstdv>
<mettc Sync="TRUE">local time</mettc>
<metc>
<cntinfo>
<cntorgp>
<cntper>REQUIRED: The person responsible for the metadata information.</cntper>
<cntorg>REQUIRED: The organization responsible for the metadata information.</cntorg>
</cntorgp>
<cntaddr>
<addrtype>REQUIRED: The mailing and/or physical address for the organization or individual.</addrtype>
<city>REQUIRED: The city of the address.</city>
<state>REQUIRED: The state or province of the address.</state>
<postal>REQUIRED: The ZIP or other postal code of the address.</postal>
</cntaddr>
<cntvoice>REQUIRED: The telephone number by which individuals can speak to the organization or individual.</cntvoice>
</cntinfo>
</metc>
<metd Sync="TRUE">20090605</metd>
<metextns>
<onlink Sync="TRUE">http://www.esri.com/metadata/esriprof80.html</onlink>
<metprof Sync="TRUE">ESRI Metadata Profile</metprof>
</metextns>
</metainfo>
<mdLang>
<languageCode Sync="TRUE" value="en"/>
</mdLang>
<mdStanName Sync="TRUE">ISO 19115 Geographic Information - Metadata</mdStanName>
<mdStanVer Sync="TRUE">DIS_ESRI1.0</mdStanVer>
<mdChar>
<CharSetCd Sync="TRUE" value="004"/>
</mdChar>
<mdHrLv>
<ScopeCd Sync="TRUE" value="005"/>
</mdHrLv>
<mdHrLvName Sync="TRUE">dataset</mdHrLvName>
<distInfo>
<distributor>
<distorTran>
<onLineSrc>
<linkage Sync="TRUE">file://I:\pw\swm\gis_public\data\Sauk\Sauk_River_product_from_SRSC\photos_phaseII\44_lowersaukreach.sid</linkage>
<protocol Sync="TRUE">Local Area Network</protocol>
<orDesc Sync="TRUE">002</orDesc>
</onLineSrc>
</distorTran>
<distorFormat>
<formatName Sync="TRUE">Raster Dataset</formatName>
</distorFormat>
</distributor>
</distInfo>
<distinfo>
<resdesc Sync="TRUE">Downloadable Data</resdesc>
</distinfo>
<spdoinfo>
<direct Sync="TRUE">Raster</direct>
<rastinfo>
<rasttype Sync="TRUE">Pixel</rasttype>
<rowcount Sync="TRUE">11236</rowcount>
<colcount Sync="TRUE">9252</colcount>
<rastxsz Sync="TRUE">3.033323</rastxsz>
<rastysz Sync="TRUE">3.033323</rastysz>
<rastbpp Sync="TRUE">8</rastbpp>
<vrtcount Sync="TRUE">1</vrtcount>
<rastorig Sync="TRUE">Upper Left</rastorig>
<rastcmap Sync="TRUE">FALSE</rastcmap>
<rastcomp Sync="TRUE">Wavelet</rastcomp>
<rastband Sync="TRUE">3</rastband>
<rastdtyp Sync="TRUE">pixel codes</rastdtyp>
<rastifor Sync="TRUE">MrSID</rastifor>
<rastplyr Sync="TRUE">TRUE</rastplyr>
</rastinfo>
</spdoinfo>
<spref>
<horizsys>
<cordsysn>
<geogcsn Sync="TRUE">GCS_North_American_1927</geogcsn>
<projcsn Sync="TRUE">NAD_1927_StatePlane_Washington_North_FIPS_4601</projcsn>
</cordsysn>
<planar>
<planci>
<plance Sync="TRUE">row and column</plance>
<plandu Sync="TRUE">survey feet</plandu>
<coordrep>
<absres Sync="TRUE">3.033323</absres>
<ordres Sync="TRUE">3.033323</ordres>
</coordrep>
</planci>
<gridsys>
<gridsysn Sync="TRUE">State Plane Coordinate System 1927</gridsysn>
<spcs>
<spcszone Sync="TRUE">4601</spcszone>
<lambertc>
<stdparll Sync="TRUE">47.500000</stdparll>
<stdparll Sync="TRUE">48.733333</stdparll>
<longcm Sync="TRUE">-120.833333</longcm>
<latprjo Sync="TRUE">47.000000</latprjo>
<feast Sync="TRUE">2000000.000000</feast>
<fnorth Sync="TRUE">0.000000</fnorth>
</lambertc>
</spcs>
</gridsys>
</planar>
<geodetic>
<horizdn Sync="TRUE">North American Datum of 1927</horizdn>
<ellips Sync="TRUE">Clarke 1866</ellips>
<semiaxis Sync="TRUE">6378206.400000</semiaxis>
<denflat Sync="TRUE">294.978698</denflat>
</geodetic>
</horizsys>
</spref>
<refSysInfo>
<RefSystem>
<refSysID>
<identCode Sync="TRUE">NAD_1927_StatePlane_Washington_North_FIPS_4601</identCode>
</refSysID>
</RefSystem>
</refSysInfo>
<mdDateSt Sync="TRUE">20090605</mdDateSt>
</metadata>
