{
 "currentVersion": 11.5,
 "serviceDescription": "Rivers/Aerial_Sauk_Lower_1972",
 "serviceItemId": "5496310dde8b4f32a6827a4e6846a83b",
 "name": "Rivers/Aerial_Sauk_Lower_1972",
 "description": "",
 "extent": {
  "xmin": 1796905.7694640001,
  "ymin": 487746.7754680003,
  "xmax": 1836757.319504,
  "ymax": 551484.047536,
  "spatialReference": {
   "wkid": 32048,
   "latestWkid": 32048
  }
 },
 "initialExtent": {
  "xmin": 1796905.7694640001,
  "ymin": 487746.7754680003,
  "xmax": 1836757.319504,
  "ymax": 551484.047536,
  "spatialReference": {
   "wkid": 32048,
   "latestWkid": 32048
  }
 },
 "fullExtent": {
  "xmin": 1796905.7694640001,
  "ymin": 487746.7754680003,
  "xmax": 1836757.319504,
  "ymax": 551484.047536,
  "spatialReference": {
   "wkid": 32048,
   "latestWkid": 32048
  }
 },
 "sortableFields": "",
 "bandCount": 3,
 "pixelType": "U8",
 "minValues": [
  0,
  0,
  0
 ],
 "maxValues": [
  255,
  255,
  251
 ],
 "meanValues": [
  49.841608202914,
  42.447787371829,
  41.950080949811
 ],
 "stdvValues": [
  57.61950444045,
  50.103816659373,
  47.88865978316
 ],
 "serviceProperties": "Center<\/MosaicMethod>First<\/MosaicOperator>true<\/SortAscending><\/LockImageID><\/TileOrderField>0<\/TileOrderBase>0.000000<\/AvgImageSpacingX>0.000000<\/AvgImageSpacingY>0.0<\/ViewPointX>0.0<\/ViewPointY>0.0<\/ViewPointDefShiftX>0.0<\/ViewPointDefShiftY>None<\/CompressionMethod>75<\/CompressionQuality>0.010000<\/CompressionTolerance>Bilinear<\/SamplingMethod><\/ImageServiceProperties><\/ImageServer>",
 "allowedFields": "",
 "hasMultidimensions": false,
 "pixelSizeX": 2.2916359999999933,
 "pixelSizeY": 2.2916359999999893,
 "meanPixelSize": 0.6984920497840971,
 "datasetFormat": "MrSID",
 "uncompressedSize": 1451004210,
 "blockWidth": 1024,
 "blockHeight": 128,
 "compressionType": "Wavelet (MG3)",
 "bandNames": [
  "Band_1",
  "Band_2",
  "Band_3"
 ],
 "allowCopy": true,
 "allowAnalysis": true,
 "itemAccess": false,
 "inspectionCapabilities": "",
 "minPixelSize": 0,
 "maxPixelSize": 0,
 "copyrightText": "",
 "serviceDataType": "esriImageServiceDataTypeRGB",
 "serviceSourceType": "esriImageServiceSourceTypeDataset",
 "objectIdField": "",
 "fields": [],
 "capabilities": "Image,Metadata,Mensuration",
 "defaultMosaicMethod": "Center",
 "allowedMosaicMethods": "",
 "sortField": "",
 "sortValue": null,
 "sortAscending": true,
 "mosaicOperator": "First",
 "defaultCompressionQuality": 75,
 "defaultResamplingMethod": "Bilinear",
 "maxImageHeight": 4100,
 "maxImageWidth": 15000,
 "allowRasterFunction": true,
 "rasterFunctionInfos": [
  {
   "name": "None",
   "description": "",
   "help": ""
  }
 ],
 "rasterTypeInfos": [
  {
   "name": "Raster Dataset",
   "description": "Supports all ArcGIS Raster Datasets",
   "help": ""
  }
 ],
 "mensurationCapabilities": "Basic",
 "hasHistograms": true,
 "hasColormap": false,
 "hasRasterAttributeTable": false,
 "minScale": 0,
 "maxScale": 0,
 "exportTilesAllowed": false,
 "supportsStatistics": false,
 "supportsAdvancedQueries": false,
 "editFieldsInfo": null,
 "ownershipBasedAccessControlForRasters": null,
 "allowComputeTiePoints": false,
 "useStandardizedQueries": true,
 "advancedQueryCapabilities": {
  "useStandardizedQueries": true,
  "supportsStatistics": false,
  "supportsOrderBy": false,
  "supportsDistinct": false,
  "supportsPagination": false
 },
 "spatialReference": {
  "wkid": 32048,
  "latestWkid": 32048
 }
}
