{
 "currentVersion": 11.5,
 "serviceDescription": "Rivers/Aerial_Sauk_Lower_1992",
 "serviceItemId": "0bca36a8046f47738c767b8232d6bb43",
 "name": "Rivers/Aerial_Sauk_Lower_1992",
 "description": "",
 "extent": {
  "xmin": 1799226.0135915,
  "ymin": 483746.3389665002,
  "xmax": 1830834.0617115,
  "ymax": 546502.0454085,
  "spatialReference": {
   "wkid": 32048,
   "latestWkid": 32048
  }
 },
 "initialExtent": {
  "xmin": 1799226.0135915,
  "ymin": 483746.3389665002,
  "xmax": 1830834.0617115,
  "ymax": 546502.0454085,
  "spatialReference": {
   "wkid": 32048,
   "latestWkid": 32048
  }
 },
 "fullExtent": {
  "xmin": 1799226.0135915,
  "ymin": 483746.3389665002,
  "xmax": 1830834.0617115,
  "ymax": 546502.0454085,
  "spatialReference": {
   "wkid": 32048,
   "latestWkid": 32048
  }
 },
 "sortableFields": "",
 "bandCount": 3,
 "pixelType": "U8",
 "minValues": [
  0,
  0,
  0
 ],
 "maxValues": [
  255,
  255,
  255
 ],
 "meanValues": [
  203.23749074368,
  202.8041891463,
  202.56225536867
 ],
 "stdvValues": [
  89.467753876682,
  88.600886330282,
  87.926884730235
 ],
 "serviceProperties": "Center<\/MosaicMethod>First<\/MosaicOperator>true<\/SortAscending><\/LockImageID><\/TileOrderField>0<\/TileOrderBase>0.000000<\/AvgImageSpacingX>0.000000<\/AvgImageSpacingY>0.0<\/ViewPointX>0.0<\/ViewPointY>0.0<\/ViewPointDefShiftX>0.0<\/ViewPointDefShiftY>None<\/CompressionMethod>75<\/CompressionQuality>0.010000<\/CompressionTolerance>Bilinear<\/SamplingMethod><\/ImageServiceProperties><\/ImageServer>",
 "allowedFields": "",
 "hasMultidimensions": false,
 "pixelSizeX": 0.8974459999999981,
 "pixelSizeY": 0.8974459999999974,
 "meanPixelSize": 0.2735420878841751,
 "datasetFormat": "MrSID",
 "uncompressedSize": 7388486820,
 "blockWidth": 1024,
 "blockHeight": 128,
 "compressionType": "Wavelet (MG3)",
 "bandNames": [
  "Band_1",
  "Band_2",
  "Band_3"
 ],
 "allowCopy": true,
 "allowAnalysis": true,
 "itemAccess": false,
 "inspectionCapabilities": "",
 "minPixelSize": 0,
 "maxPixelSize": 0,
 "copyrightText": "",
 "serviceDataType": "esriImageServiceDataTypeRGB",
 "serviceSourceType": "esriImageServiceSourceTypeDataset",
 "objectIdField": "",
 "fields": [],
 "capabilities": "Image,Metadata,Mensuration",
 "defaultMosaicMethod": "Center",
 "allowedMosaicMethods": "",
 "sortField": "",
 "sortValue": null,
 "sortAscending": true,
 "mosaicOperator": "First",
 "defaultCompressionQuality": 75,
 "defaultResamplingMethod": "Bilinear",
 "maxImageHeight": 4100,
 "maxImageWidth": 15000,
 "allowRasterFunction": true,
 "rasterFunctionInfos": [
  {
   "name": "None",
   "description": "",
   "help": ""
  }
 ],
 "rasterTypeInfos": [
  {
   "name": "Raster Dataset",
   "description": "Supports all ArcGIS Raster Datasets",
   "help": ""
  }
 ],
 "mensurationCapabilities": "Basic",
 "hasHistograms": true,
 "hasColormap": false,
 "hasRasterAttributeTable": false,
 "minScale": 0,
 "maxScale": 0,
 "exportTilesAllowed": false,
 "supportsStatistics": false,
 "supportsAdvancedQueries": false,
 "editFieldsInfo": null,
 "ownershipBasedAccessControlForRasters": null,
 "allowComputeTiePoints": false,
 "useStandardizedQueries": true,
 "advancedQueryCapabilities": {
  "useStandardizedQueries": true,
  "supportsStatistics": false,
  "supportsOrderBy": false,
  "supportsDistinct": false,
  "supportsPagination": false
 },
 "spatialReference": {
  "wkid": 32048,
  "latestWkid": 32048
 }
}
