{
 "currentVersion": 11.5,
 "serviceDescription": "Rivers/Aerial_Sauk_Upper_1949",
 "serviceItemId": "8614b321cda7462d93c257d61a19c2c4",
 "name": "Rivers/Aerial_Sauk_Upper_1949",
 "description": "",
 "extent": {
  "xmin": 1810737.960909811,
  "ymin": 439926.30841682723,
  "xmax": 1834370.706036811,
  "ymax": 488658.269728827,
  "spatialReference": {
   "wkid": 32048,
   "latestWkid": 32048
  }
 },
 "initialExtent": {
  "xmin": 1810737.960909811,
  "ymin": 439926.30841682723,
  "xmax": 1834370.706036811,
  "ymax": 488658.269728827,
  "spatialReference": {
   "wkid": 32048,
   "latestWkid": 32048
  }
 },
 "fullExtent": {
  "xmin": 1810737.960909811,
  "ymin": 439926.30841682723,
  "xmax": 1834370.706036811,
  "ymax": 488658.269728827,
  "spatialReference": {
   "wkid": 32048,
   "latestWkid": 32048
  }
 },
 "sortableFields": "",
 "bandCount": 3,
 "pixelType": "U8",
 "minValues": [
  0,
  0,
  0
 ],
 "maxValues": [
  255,
  255,
  255
 ],
 "meanValues": [
  163.039589169,
  165.69112978525,
  166.25732959851
 ],
 "stdvValues": [
  78.346964195882,
  75.968184810433,
  75.572950515633
 ],
 "serviceProperties": "Center<\/MosaicMethod>First<\/MosaicOperator>true<\/SortAscending><\/LockImageID><\/TileOrderField>0<\/TileOrderBase>0.000000<\/AvgImageSpacingX>0.000000<\/AvgImageSpacingY>0.0<\/ViewPointX>0.0<\/ViewPointY>0.0<\/ViewPointDefShiftX>0.0<\/ViewPointDefShiftY>None<\/CompressionMethod>75<\/CompressionQuality>0.010000<\/CompressionTolerance>Bilinear<\/SamplingMethod><\/ImageServiceProperties><\/ImageServer>",
 "allowedFields": "",
 "hasMultidimensions": false,
 "pixelSizeX": 1.8194429999999935,
 "pixelSizeY": 1.8194429999999913,
 "meanPixelSize": 0.5545673355346689,
 "datasetFormat": "MrSID",
 "uncompressedSize": 1043692128,
 "blockWidth": 1024,
 "blockHeight": 128,
 "compressionType": "Wavelet (MG3)",
 "bandNames": [
  "Band_1",
  "Band_2",
  "Band_3"
 ],
 "allowCopy": true,
 "allowAnalysis": true,
 "itemAccess": false,
 "inspectionCapabilities": "",
 "minPixelSize": 0,
 "maxPixelSize": 0,
 "copyrightText": "",
 "serviceDataType": "esriImageServiceDataTypeRGB",
 "serviceSourceType": "esriImageServiceSourceTypeDataset",
 "objectIdField": "",
 "fields": [],
 "capabilities": "Image,Metadata,Mensuration",
 "defaultMosaicMethod": "Center",
 "allowedMosaicMethods": "",
 "sortField": "",
 "sortValue": null,
 "sortAscending": true,
 "mosaicOperator": "First",
 "defaultCompressionQuality": 75,
 "defaultResamplingMethod": "Bilinear",
 "maxImageHeight": 4100,
 "maxImageWidth": 15000,
 "allowRasterFunction": true,
 "rasterFunctionInfos": [
  {
   "name": "None",
   "description": "",
   "help": ""
  }
 ],
 "rasterTypeInfos": [
  {
   "name": "Raster Dataset",
   "description": "Supports all ArcGIS Raster Datasets",
   "help": ""
  }
 ],
 "mensurationCapabilities": "Basic",
 "hasHistograms": true,
 "hasColormap": false,
 "hasRasterAttributeTable": false,
 "minScale": 0,
 "maxScale": 0,
 "exportTilesAllowed": false,
 "supportsStatistics": false,
 "supportsAdvancedQueries": false,
 "editFieldsInfo": null,
 "ownershipBasedAccessControlForRasters": null,
 "allowComputeTiePoints": false,
 "useStandardizedQueries": true,
 "advancedQueryCapabilities": {
  "useStandardizedQueries": true,
  "supportsStatistics": false,
  "supportsOrderBy": false,
  "supportsDistinct": false,
  "supportsPagination": false
 },
 "spatialReference": {
  "wkid": 32048,
  "latestWkid": 32048
 }
}
