{
 "currentVersion": 11.5,
 "serviceDescription": "Rivers/Aerial_Sauk_Upper_1992",
 "serviceItemId": "ffbd124c6ca94933969e3c5e9d217fdc",
 "name": "Rivers/Aerial_Sauk_Upper_1992",
 "description": "",
 "extent": {
  "xmin": 1809994.4922319402,
  "ymin": 443420.53979025816,
  "xmax": 1832293.6332689398,
  "ymax": 490912.00760525814,
  "spatialReference": {
   "wkid": 32048,
   "latestWkid": 32048
  }
 },
 "initialExtent": {
  "xmin": 1809994.4922319402,
  "ymin": 443420.53979025816,
  "xmax": 1832293.6332689398,
  "ymax": 490912.00760525814,
  "spatialReference": {
   "wkid": 32048,
   "latestWkid": 32048
  }
 },
 "fullExtent": {
  "xmin": 1809994.4922319402,
  "ymin": 443420.53979025816,
  "xmax": 1832293.6332689398,
  "ymax": 490912.00760525814,
  "spatialReference": {
   "wkid": 32048,
   "latestWkid": 32048
  }
 },
 "sortableFields": "",
 "bandCount": 3,
 "pixelType": "U8",
 "minValues": [
  0,
  0,
  0
 ],
 "maxValues": [
  255,
  255,
  255
 ],
 "meanValues": [
  183.09338952972,
  182.0958296362,
  182.20097604259
 ],
 "stdvValues": [
  99.364816876827,
  99.135776012175,
  98.296725328098
 ],
 "serviceProperties": "Center<\/MosaicMethod>First<\/MosaicOperator>true<\/SortAscending><\/LockImageID><\/TileOrderField>0<\/TileOrderBase>0.000000<\/AvgImageSpacingX>0.000000<\/AvgImageSpacingY>0.0<\/ViewPointX>0.0<\/ViewPointY>0.0<\/ViewPointDefShiftX>0.0<\/ViewPointDefShiftY>None<\/CompressionMethod>75<\/CompressionQuality>0.010000<\/CompressionTolerance>Bilinear<\/SamplingMethod><\/ImageServiceProperties><\/ImageServer>",
 "allowedFields": "",
 "hasMultidimensions": false,
 "pixelSizeX": 0.9520189999999848,
 "pixelSizeY": 0.9520189999999996,
 "meanPixelSize": 0.29017597155194075,
 "datasetFormat": "MrSID",
 "uncompressedSize": 3505369065,
 "blockWidth": 1024,
 "blockHeight": 128,
 "compressionType": "Wavelet (MG3)",
 "bandNames": [
  "Band_1",
  "Band_2",
  "Band_3"
 ],
 "allowCopy": true,
 "allowAnalysis": true,
 "itemAccess": false,
 "inspectionCapabilities": "",
 "minPixelSize": 0,
 "maxPixelSize": 0,
 "copyrightText": "",
 "serviceDataType": "esriImageServiceDataTypeRGB",
 "serviceSourceType": "esriImageServiceSourceTypeDataset",
 "objectIdField": "",
 "fields": [],
 "capabilities": "Image,Metadata,Mensuration",
 "defaultMosaicMethod": "Center",
 "allowedMosaicMethods": "",
 "sortField": "",
 "sortValue": null,
 "sortAscending": true,
 "mosaicOperator": "First",
 "defaultCompressionQuality": 75,
 "defaultResamplingMethod": "Bilinear",
 "maxImageHeight": 4100,
 "maxImageWidth": 15000,
 "allowRasterFunction": true,
 "rasterFunctionInfos": [
  {
   "name": "None",
   "description": "",
   "help": ""
  }
 ],
 "rasterTypeInfos": [
  {
   "name": "Raster Dataset",
   "description": "Supports all ArcGIS Raster Datasets",
   "help": ""
  }
 ],
 "mensurationCapabilities": "Basic",
 "hasHistograms": true,
 "hasColormap": false,
 "hasRasterAttributeTable": false,
 "minScale": 0,
 "maxScale": 0,
 "exportTilesAllowed": false,
 "supportsStatistics": false,
 "supportsAdvancedQueries": false,
 "editFieldsInfo": null,
 "ownershipBasedAccessControlForRasters": null,
 "allowComputeTiePoints": false,
 "useStandardizedQueries": true,
 "advancedQueryCapabilities": {
  "useStandardizedQueries": true,
  "supportsStatistics": false,
  "supportsOrderBy": false,
  "supportsDistinct": false,
  "supportsPagination": false
 },
 "spatialReference": {
  "wkid": 32048,
  "latestWkid": 32048
 }
}
