{
 "currentVersion": 11.5,
 "serviceDescription": "Rivers/Aerial_Sauk_Upper_1998",
 "serviceItemId": "814cb9269cab4393b2a02198740aaf65",
 "name": "Rivers/Aerial_Sauk_Upper_1998",
 "description": "",
 "extent": {
  "xmin": 1811277.1634949853,
  "ymin": 440556.8221942927,
  "xmax": 1832061.2838189853,
  "ymax": 494004.00935029256,
  "spatialReference": {
   "wkid": 32048,
   "latestWkid": 32048
  }
 },
 "initialExtent": {
  "xmin": 1811277.1634949853,
  "ymin": 440556.8221942927,
  "xmax": 1832061.2838189853,
  "ymax": 494004.00935029256,
  "spatialReference": {
   "wkid": 32048,
   "latestWkid": 32048
  }
 },
 "fullExtent": {
  "xmin": 1811277.1634949853,
  "ymin": 440556.8221942927,
  "xmax": 1832061.2838189853,
  "ymax": 494004.00935029256,
  "spatialReference": {
   "wkid": 32048,
   "latestWkid": 32048
  }
 },
 "sortableFields": "",
 "bandCount": 3,
 "pixelType": "U8",
 "minValues": [
  0,
  0,
  0
 ],
 "maxValues": [
  255,
  255,
  255
 ],
 "meanValues": [
  184.84563212154,
  188.27835051546,
  191.4801953337
 ],
 "stdvValues": [
  93.687137599971,
  87.900220914284,
  82.349525796307
 ],
 "serviceProperties": "Center<\/MosaicMethod>First<\/MosaicOperator>true<\/SortAscending><\/LockImageID><\/TileOrderField>0<\/TileOrderBase>0.000000<\/AvgImageSpacingX>0.000000<\/AvgImageSpacingY>0.0<\/ViewPointX>0.0<\/ViewPointY>0.0<\/ViewPointDefShiftX>0.0<\/ViewPointDefShiftY>None<\/CompressionMethod>75<\/CompressionQuality>0.010000<\/CompressionTolerance>Bilinear<\/SamplingMethod><\/ImageServiceProperties><\/ImageServer>",
 "allowedFields": "",
 "hasMultidimensions": false,
 "pixelSizeX": 1.076284000000001,
 "pixelSizeY": 1.0762839999999976,
 "meanPixelSize": 0.32805201930403843,
 "datasetFormat": "MrSID",
 "uncompressedSize": 2876894847,
 "blockWidth": 1024,
 "blockHeight": 128,
 "compressionType": "Wavelet (MG3)",
 "bandNames": [
  "Band_1",
  "Band_2",
  "Band_3"
 ],
 "allowCopy": true,
 "allowAnalysis": true,
 "itemAccess": false,
 "inspectionCapabilities": "",
 "minPixelSize": 0,
 "maxPixelSize": 0,
 "copyrightText": "",
 "serviceDataType": "esriImageServiceDataTypeRGB",
 "serviceSourceType": "esriImageServiceSourceTypeDataset",
 "objectIdField": "",
 "fields": [],
 "capabilities": "Image,Metadata,Mensuration",
 "defaultMosaicMethod": "Center",
 "allowedMosaicMethods": "",
 "sortField": "",
 "sortValue": null,
 "sortAscending": true,
 "mosaicOperator": "First",
 "defaultCompressionQuality": 75,
 "defaultResamplingMethod": "Bilinear",
 "maxImageHeight": 4100,
 "maxImageWidth": 15000,
 "allowRasterFunction": true,
 "rasterFunctionInfos": [
  {
   "name": "None",
   "description": "",
   "help": ""
  }
 ],
 "rasterTypeInfos": [
  {
   "name": "Raster Dataset",
   "description": "Supports all ArcGIS Raster Datasets",
   "help": ""
  }
 ],
 "mensurationCapabilities": "Basic",
 "hasHistograms": true,
 "hasColormap": false,
 "hasRasterAttributeTable": false,
 "minScale": 0,
 "maxScale": 0,
 "exportTilesAllowed": false,
 "supportsStatistics": false,
 "supportsAdvancedQueries": false,
 "editFieldsInfo": null,
 "ownershipBasedAccessControlForRasters": null,
 "allowComputeTiePoints": false,
 "useStandardizedQueries": true,
 "advancedQueryCapabilities": {
  "useStandardizedQueries": true,
  "supportsStatistics": false,
  "supportsOrderBy": false,
  "supportsDistinct": false,
  "supportsPagination": false
 },
 "spatialReference": {
  "wkid": 32048,
  "latestWkid": 32048
 }
}
