<?xml version="1.0" encoding="UTF-8" standalone="no"?>
<metadata>
<idinfo>
<citation>
<citeinfo>
<origin>USDA-FSA Aerial Photography Field Office</origin>
<pubdate>20061022</pubdate>
<title Sync="TRUE">gis_images.DBA.USDA_NAIP_2006_SKAGIT</title>
<pubinfo>
<pubplace>Salt Lake City, Utah</pubplace>
<publish>USDA FSA Aerial Photography Field Office</publish>
</pubinfo>
<ftname Sync="TRUE">gis_images.DBA.USDA_NAIP_2006_SKAGIT</ftname>
<geoform Sync="TRUE">SDE raster digital data</geoform>
<onlink Sync="TRUE">Server=apsrv07; Service=5153; Database=gis_images; User=dba; Version=sde.DEFAULT</onlink>
</citeinfo>
</citation>
<descript>
<abstract>
This data set contains imagery from the National Agriculture
Imagery Program (NAIP). NAIP acquires digital ortho imagery
during the agricultural growing seasons in the continental U.S..
A primary goal of the NAIP program is to enable availability of
ortho imagery within one year of acquisition. NAIP provides two
main products: 1 meter ground sample distance (GSD) ortho
imagery rectified to a horizontal accuracy of within +/- 5
meters of reference digital ortho quarter quads (DOQQ's) from
the National Digital Ortho Program (NDOP); and, 2 meter GSD
ortho imagery rectified to within +/- 10 meters of reference
DOQQs. The tiling format of NAIP imagery is based on a 3.75'
x 3.75' quarter quadrangle with a 300 meter buffer on all four
sides. NAIP quarter quads are formatted to the UTM coordinate
system using NAD83. NAIP imagery may contain as much as 10%
cloud cover per tile.
This file was generated by compressing NAIP quarter quadrangle
tiles that cover a county. MrSID compression, with mosaic
option, was used. Target values for the compression ratio
are (15:1) and the maximum N-levels are used.
</abstract>
<purpose>
NAIP imagery may be distributed on an interim basis to meet
USDA program requirements. The interim product is a
compressed county mosaic. Users should be aware that the
interim compressed county mosaic may contain defects and
have horizontal accuracy less than the specified tolerances.
Defective imagery may be replaced within one year of image
acquisition date.
</purpose>
<langdata Sync="TRUE">en</langdata>
</descript>
<timeperd>
<timeinfo>
<sngdate>
<caldate>20061022</caldate>
</sngdate>
</timeinfo>
<current>Majority years of Photography Dates.</current>
</timeperd>
<status>
<progress>Complete</progress>
<update>Irregular</update>
</status>
<spdom>
<bounding>
<westbc Sync="TRUE">-122.818217</westbc>
<eastbc Sync="TRUE">-120.610768</eastbc>
<northbc Sync="TRUE">48.713473</northbc>
<southbc Sync="TRUE">48.223961</southbc>
</bounding>
<lboundng>
<leftbc Sync="TRUE">513495.000000</leftbc>
<rightbc Sync="TRUE">675834.000000</rightbc>
<bottombc Sync="TRUE">5343903.000000</bottombc>
<topbc Sync="TRUE">5395621.000000</topbc>
</lboundng>
</spdom>
<keywords>
<theme>
<themekt>None</themekt>
<themekey>Digital Georectified Image</themekey>
<themekey>Mosaic</themekey>
<themekey>Georeferenced Image</themekey>
<themekey>Quarter Quadrangle Centered</themekey>
<themekey>Georectification</themekey>
<themekey>compression</themekey>
<themekey>MrSID</themekey>
<themekey>NAIP</themekey>
<themekey>Compliance</themekey>
<themekey>Aerial Compliance</themekey>
<themekey>Farming</themekey>
</theme>
<place>
<placekt>Geographic Names Information System</placekt>
<placekey>SKAGIT CO., WA FSA</placekey>
<placekey>FIPS 53057</placekey>
<placekey>SKAGIT</placekey>
<placekey>Washington</placekey>
</place>
</keywords>
<accconst>None</accconst>
<useconst>
Users should be aware that this is an interim release. The
interim compressed county mosaic may contain defects and have
horizontal accuracy less than the specified tolerances.
Defective imagery may be replaced within one year of image
acquisition date.
</useconst>
<ptcontac>
<cntinfo>
<cntorgp>
<cntorg>USDA-FSA Aerial Photography Field Office</cntorg>
</cntorgp>
<cntaddr>
<addrtype>mailing and physical address</addrtype>
<address>2222 West 2300 South</address>
<city>Salt Lake City</city>
<state>Utah</state>
<postal>84119-2020</postal>
<country>USA</country>
</cntaddr>
<cntvoice>801-975-3500</cntvoice>
<cntfax>801-975-3529</cntfax>
</cntinfo>
</ptcontac>
<browse>
<browsen>None</browsen>
<browsed>None</browsed>
<browset>None</browset>
</browse>
<native Sync="TRUE">Microsoft Windows XP Version 5.1 (Build 2600) Service Pack 2; ESRI ArcCatalog 9.2.2.1350</native>
<natvform Sync="TRUE">SDE Raster Dataset</natvform>
</idinfo>
<dataqual>
<logic>
NAIP 3.75 minute tile file names are based
on the USGS quadrangle naming convention.
</logic>
<complete>None</complete>
<posacc>
<horizpa>
<horizpar>FSA Digital Orthophoto Specs.</horizpar>
</horizpa>
<vertacc>
<vertaccr>N/A 2d only</vertaccr>
</vertacc>
</posacc>
<lineage>
<srcinfo>
<srccite>
<citeinfo>
<origin>Aerial Photography Field Office</origin>
<pubdate>20061022</pubdate>
<title>SKAGIT CO, WA</title>
</citeinfo>
</srccite>
<srcscale>40000</srcscale>
<typesrc>DVD</typesrc>
<srctime>
<timeinfo>
<sngdate>
<caldate>20061022</caldate>
</sngdate>
</timeinfo>
<srccurr>Majority Aerial Photography Date</srccurr>
</srctime>
<srccitea>MrSID compressed image</srccitea>
<srccontr>Mosaicked County Image</srccontr>
</srcinfo>
<procstep>
<procdesc>
This Compressed County Mosaic was
generated using MrSID Generation Three (MG3) software using
the maximum N-level setting and a target compression ratio of 15:1.
All photography was acquired using metric mapping cameras
and acompanied by the collection of airborne Global
Positioning System (GPS) data. Photography was scanned using
Leica Geosystems DSW 500/600/700
image scanners at a resolution of approximately 20 micrometers
per pixel. All imagery was aerotriangulated in blocks of
200-1,000 photographs using the Z/I Imaging ImageStation
Automatic Triangulation (ISAT) software package.
Orthorectification was performed with custom software and the
USGS National Elevation Dataset was used for the elevation model.
Digital orthophotos were radiometrically balanced in groups of
100-500 images using the Inpho OrthoVista product. Custom
software automatically generated the MrSID project parameter
file to control the insertion of the digital orthophotos in
the final mosaic. The ordering scheme of the digital
orthophotos is based on a last-in-last-on-top scheme.
</procdesc>
<procdate>20061022</procdate>
</procstep>
<procstep>
<procdesc Sync="TRUE">Metadata imported.</procdesc>
<srcused Sync="TRUE">D:\ortho_temp\naip_1-1_1n_s_wa057_2006_1.sid.xml</srcused>
<date Sync="TRUE">20070312</date>
<time Sync="TRUE">13431000</time>
</procstep>
</lineage>
</dataqual>
<spdoinfo>
<indspref>SKAGIT CO, Washington</indspref>
<direct Sync="TRUE">Raster</direct>
<rastinfo>
<rasttype Sync="TRUE">Pixel</rasttype>
<rowcount Sync="TRUE">56293</rowcount>
<colcount Sync="TRUE">163773</colcount>
<rastxsz Sync="TRUE">3.280833</rastxsz>
<rastysz Sync="TRUE">3.280833</rastysz>
<rastbpp Sync="TRUE">8</rastbpp>
<vrtcount Sync="TRUE">1</vrtcount>
<rastorig Sync="TRUE">Upper Left</rastorig>
<rastcmap Sync="TRUE">FALSE</rastcmap>
<rastcomp Sync="TRUE">JPEG</rastcomp>
<rastband Sync="TRUE">3</rastband>
<rastdtyp Sync="TRUE">pixel codes</rastdtyp>
<rastifor Sync="TRUE">SDR</rastifor>
<rastplyr Sync="TRUE">TRUE</rastplyr>
</rastinfo>
</spdoinfo>
<spref>
<horizsys>
<planar>
<planci>
<plance Sync="TRUE">row and column</plance>
<coordrep>
<absres Sync="TRUE">3.280833</absres>
<ordres Sync="TRUE">3.280833</ordres>
</coordrep>
<plandu Sync="TRUE">meters</plandu>
</planci>
</planar>
<geodetic>
<horizdn Sync="TRUE">North American Datum of 1983</horizdn>
<ellips Sync="TRUE">Geodetic Reference System 80</ellips>
<semiaxis Sync="TRUE">6378137.000000</semiaxis>
<denflat Sync="TRUE">298.257222</denflat>
</geodetic>
<cordsysn>
<geogcsn Sync="TRUE">GCS_North_American_1983</geogcsn>
<projcsn Sync="TRUE">NAD_1983_UTM_Zone_10N</projcsn>
</cordsysn>
</horizsys>
<vertdef>
<altsys>
<altenc Sync="TRUE">Explicit elevation coordinate included with horizontal coordinates</altenc>
<altres Sync="TRUE">1.000000</altres>
</altsys>
</vertdef>
</spref>
<eainfo>
<overview>
<eaover>24-bit pixels, 3 band color (RGB) represent brightness values 0 - 255</eaover>
<eadetcit>None</eadetcit>
</overview>
</eainfo>
<distinfo>
<distrib>
<cntinfo>
<cntperp>
<cntper>Supervisor Sales Services Branch</cntper>
<cntorg>USDA-FSA Aerial Photography Field Office</cntorg>
</cntperp>
<cntaddr>
<addrtype>mailing and physical address</addrtype>
<address>2222 West 2300 South</address>
<city>Salt Lake City</city>
<state>Utah</state>
<postal>84119-2020</postal>
<country>USA</country>
</cntaddr>
<cntvoice>801-975-3500</cntvoice>
<cntfax>801-975-3529</cntfax>
</cntinfo>
</distrib>
<resdesc>Mosaicked County Image</resdesc>
<distliab>
In no event shall the creators, custodians, or distributors of this
information be liable for any damages arising out of its use
(or the inability to use it).
</distliab>
<stdorder>
<digform>
<digtinfo>
<formname>Compressed County Mosaic</formname>
<formcont>Natural Color</formcont>
</digtinfo>
<digtopt>
<onlinopt>
<computer>
<networka>
<networkr>None</networkr>
</networka>
</computer>
</onlinopt>
<offoptn>
<offmedia>DVD-ROM</offmedia>
<recfmt>ISO 9660 Mode 1 with Rockridge and Joliet extensions</recfmt>
</offoptn>
</digtopt>
</digform>
<fees>Contact the Aerial Photography Field Office for more information</fees>
</stdorder>
</distinfo>
<metainfo>
<metd Sync="TRUE">20080520</metd>
<metc>
<cntinfo>
<cntorgp>
<cntorg>USDA-FSA Aerial Photography Field Office</cntorg>
<cntper>REQUIRED: The person responsible for the metadata information.</cntper>
</cntorgp>
<cntaddr>
<addrtype>mailing and physical address</addrtype>
<address>2222 West 2300 South</address>
<city>Salt Lake City</city>
<state>Utah</state>
<postal>84119-2020</postal>
<country>USA</country>
</cntaddr>
<cntvoice>801-975-3500</cntvoice>
</cntinfo>
</metc>
<metstdn Sync="TRUE">FGDC Content Standards for Digital Geospatial Metadata</metstdn>
<metstdv Sync="TRUE">FGDC-STD-001-1998</metstdv>
<langmeta Sync="TRUE">en</langmeta>
<mettc Sync="TRUE">local time</mettc>
</metainfo>
<Esri>
<MetaID>{F8FF4A50-6DF3-40D3-82CD-3338606E5C22}</MetaID>
<CreaDate>20070312</CreaDate>
<CreaTime>13431000</CreaTime>
<SyncOnce>FALSE</SyncOnce>
<SyncDate>20150805</SyncDate>
<SyncTime>13454600</SyncTime>
<ModDate>20150805</ModDate>
<ModTime>13454600</ModTime>
<DataProperties>
<itemProps>
<itemName Sync="TRUE">GIS_IMAGES.GDBA.USDA_NAIP_2006_SKAGIT</itemName>
<imsContentType Sync="TRUE">002</imsContentType>
<nativeExtBox>
<westBL Sync="TRUE">1156866.735474</westBL>
<eastBL Sync="TRUE">1694178.652974</eastBL>
<southBL Sync="TRUE">446529.008602</southBL>
<northBL Sync="TRUE">631216.959436</northBL>
<exTypeCode Sync="TRUE">1</exTypeCode>
</nativeExtBox>
<itemLocation>
<linkage Sync="TRUE">Server=sql2012-sql127; Service=sde:sqlserver:sql2012-sql127\sql127GIS; Database=GIS_IMAGES; User=GDBA; Version=sde.DEFAULT</linkage>
<protocol Sync="TRUE">ArcSDE Connection</protocol>
</itemLocation>
</itemProps>
<coordRef>
<type Sync="TRUE">Projected</type>
<geogcsn Sync="TRUE">GCS_North_American_1983</geogcsn>
<csUnits Sync="TRUE">Linear Unit: Foot_US (0.304801)</csUnits>
<projcsn Sync="TRUE">NAD_1983_StatePlane_Washington_North_FIPS_4601_Feet</projcsn>
<peXml Sync="TRUE">&lt;ProjectedCoordinateSystem xsi:type='typens:ProjectedCoordinateSystem' xmlns:xsi='http://www.w3.org/2001/XMLSchema-instance' xmlns:xs='http://www.w3.org/2001/XMLSchema' xmlns:typens='http://www.esri.com/schemas/ArcGIS/10.1'&gt;&lt;WKT&gt;PROJCS[&amp;quot;NAD_1983_StatePlane_Washington_North_FIPS_4601_Feet&amp;quot;,GEOGCS[&amp;quot;GCS_North_American_1983&amp;quot;,DATUM[&amp;quot;D_North_American_1983&amp;quot;,SPHEROID[&amp;quot;GRS_1980&amp;quot;,6378137.0,298.257222101]],PRIMEM[&amp;quot;Greenwich&amp;quot;,0.0],UNIT[&amp;quot;Degree&amp;quot;,0.0174532925199433]],PROJECTION[&amp;quot;Lambert_Conformal_Conic&amp;quot;],PARAMETER[&amp;quot;False_Easting&amp;quot;,1640416.666666667],PARAMETER[&amp;quot;False_Northing&amp;quot;,0.0],PARAMETER[&amp;quot;Central_Meridian&amp;quot;,-120.8333333333333],PARAMETER[&amp;quot;Standard_Parallel_1&amp;quot;,47.5],PARAMETER[&amp;quot;Standard_Parallel_2&amp;quot;,48.73333333333333],PARAMETER[&amp;quot;Latitude_Of_Origin&amp;quot;,47.0],UNIT[&amp;quot;Foot_US&amp;quot;,0.3048006096012192],AUTHORITY[&amp;quot;EPSG&amp;quot;,2285]]&lt;/WKT&gt;&lt;XOrigin&gt;-117104300&lt;/XOrigin&gt;&lt;YOrigin&gt;-99539600&lt;/YOrigin&gt;&lt;XYScale&gt;37926742.22403606&lt;/XYScale&gt;&lt;ZOrigin&gt;0&lt;/ZOrigin&gt;&lt;ZScale&gt;1&lt;/ZScale&gt;&lt;MOrigin&gt;0&lt;/MOrigin&gt;&lt;MScale&gt;1&lt;/MScale&gt;&lt;XYTolerance&gt;0.0032808333333333331&lt;/XYTolerance&gt;&lt;ZTolerance&gt;2&lt;/ZTolerance&gt;&lt;MTolerance&gt;2&lt;/MTolerance&gt;&lt;HighPrecision&gt;true&lt;/HighPrecision&gt;&lt;WKID&gt;102748&lt;/WKID&gt;&lt;LatestWKID&gt;2285&lt;/LatestWKID&gt;&lt;/ProjectedCoordinateSystem&gt;</peXml>
</coordRef>
<lineage>
<Process Date="20150806" Time="152713" ToolSource="c:\program files\arcgis\desktop10.2\ArcToolbox\Toolboxes\Data Management Tools.tbx\ChangePrivileges">ChangePrivileges 'Database Connections\GDBA@GIS_IMAGES@sql2012-sql127GIS.sde\GIS_IMAGES.GDBA.ORTHO_2012_9IN_COLOR';'Database Connections\GDBA@GIS_IMAGES@sql2012-sql127GIS.sde\GIS_IMAGES.GDBA.USDA_NAIP_2006_ISLAND';'Database Connections\GDBA@GIS_IMAGES@sql2012-sql127GIS.sde\GIS_IMAGES.GDBA.USDA_NAIP_2006_KING';'Database Connections\GDBA@GIS_IMAGES@sql2012-sql127GIS.sde\GIS_IMAGES.GDBA.USDA_NAIP_2006_SKAGIT';'Database Connections\GDBA@GIS_IMAGES@sql2012-sql127GIS.sde\GIS_IMAGES.GDBA.USDA_NAIP_2006_SNOHOMISH';'Database Connections\GDBA@GIS_IMAGES@sql2012-sql127GIS.sde\GIS_IMAGES.GDBA.USDA_NAIP_2009_SNOHOMISH';'Database Connections\GDBA@GIS_IMAGES@sql2012-sql127GIS.sde\GIS_IMAGES.GDBA.USDA_NAIP_2011_SNOHOMISH' viewers GRANT #</Process>
</lineage>
</DataProperties>
</Esri>
<dataIdInfo>
<envirDesc Sync="TRUE">Microsoft Windows 7 Version 6.1 (Build 7601) Service Pack 1; Esri ArcGIS 10.2.2.3552</envirDesc>
<dataLang>
<languageCode Sync="TRUE" value="eng"/>
<countryCode Sync="TRUE" value="USA"/>
</dataLang>
<idCitation>
<resTitle Sync="TRUE">Aerial_Skagit_2006</resTitle>
<presForm>
<PresFormCd Sync="TRUE" value="011"/>
</presForm>
</idCitation>
<spatRpType>
<SpatRepTypCd Sync="TRUE" value="002"/>
</spatRpType>
<dataExt>
<geoEle>
<GeoBndBox esriExtentType="native">
<westBL Sync="TRUE">513495</westBL>
<eastBL Sync="TRUE">675834</eastBL>
<northBL Sync="TRUE">5395621</northBL>
<southBL Sync="TRUE">5343903</southBL>
<exTypeCode Sync="TRUE">1</exTypeCode>
</GeoBndBox>
</geoEle>
</dataExt>
<geoBox esriExtentType="decdegrees">
<westBL Sync="TRUE">-122.818217</westBL>
<eastBL Sync="TRUE">-120.610768</eastBL>
<northBL Sync="TRUE">48.713473</northBL>
<southBL Sync="TRUE">48.223961</southBL>
<exTypeCode Sync="TRUE">1</exTypeCode>
</geoBox>
<dataExt>
<geoEle>
<GeoBndBox esriExtentType="search">
<exTypeCode Sync="TRUE">1</exTypeCode>
<westBL Sync="TRUE">-122.836341</westBL>
<eastBL Sync="TRUE">-120.610586</eastBL>
<northBL Sync="TRUE">48.730383</northBL>
<southBL Sync="TRUE">48.207050</southBL>
</GeoBndBox>
</geoEle>
</dataExt>
<idAbs/>
<searchKeys>
<keyword>Aerial</keyword>
<keyword>Skagit</keyword>
<keyword>River</keyword>
</searchKeys>
<idPurp>This data set contains imagery from the National Agriculture
Imagery Program (NAIP). NAIP acquires digital ortho imagery
during the agricultural growing seasons in the continental U.S..
A primary goal of the NAIP program is to enable availability of
ortho imagery within one year of acquisition. NAIP provides two
main products: 1 meter ground sample distance (GSD) ortho
imagery rectified to a horizontal accuracy of within +/- 5
meters of reference digital ortho quarter quads (DOQQ's) from
the National Digital Ortho Program (NDOP); and, 2 meter GSD
ortho imagery rectified to within +/- 10 meters of reference
DOQQs. The tiling format of NAIP imagery is based on a 3.75'
x 3.75' quarter quadrangle with a 300 meter buffer on all four
sides. NAIP quarter quads are formatted to the UTM coordinate
system using NAD83. NAIP imagery may contain as much as 10%
cloud cover per tile.
This file was generated by compressing NAIP quarter quadrangle
tiles that cover a county. MrSID compression, with mosaic
option, was used. Target values for the compression ratio
are (15:1) and the maximum N-levels are used.</idPurp>
<idCredit/>
<resConst>
<Consts>
<useLimit/>
</Consts>
</resConst>
</dataIdInfo>
<mdLang>
<languageCode Sync="TRUE" value="eng"/>
<countryCode Sync="TRUE" value="USA"/>
</mdLang>
<mdStanName Sync="TRUE">ISO 19115 Geographic Information - Metadata</mdStanName>
<mdStanVer Sync="TRUE">DIS_ESRI1.0</mdStanVer>
<mdChar>
<CharSetCd Sync="TRUE" value="004"/>
</mdChar>
<mdHrLv>
<ScopeCd Sync="TRUE" value="005"/>
</mdHrLv>
<mdHrLvName Sync="TRUE">dataset</mdHrLvName>
<distInfo>
<distributor>
<distorTran>
<onLineSrc>
<orDesc Sync="TRUE">002</orDesc>
<linkage Sync="TRUE">Server=apsrv07; Service=5153; Database=gis_images; User=dba; Version=sde.DEFAULT</linkage>
<protocol Sync="TRUE">ArcSDE Connection</protocol>
</onLineSrc>
</distorTran>
<distorFormat>
<formatName Sync="TRUE">SDE Raster Dataset</formatName>
</distorFormat>
</distributor>
<distFormat>
<formatName Sync="TRUE">SDE Raster Dataset</formatName>
</distFormat>
</distInfo>
<refSysInfo>
<RefSystem>
<refSysID>
<identCode Sync="TRUE" code="2285">NAD_1983_UTM_Zone_10N</identCode>
<idCodeSpace Sync="TRUE">EPSG</idCodeSpace>
<idVersion Sync="TRUE">8.2.6</idVersion>
</refSysID>
</RefSystem>
</refSysInfo>
<mdDateSt Sync="TRUE">20150805</mdDateSt>
</metadata>
