{
 "currentVersion": 11.5,
 "serviceDescription": "Rivers/Aerial_Stillaguamish_South_Fork_1955",
 "serviceItemId": "46dac886b1d647bf9171fcba3e2c9dd6",
 "name": "Rivers/Aerial_Stillaguamish_South_Fork_1955",
 "description": "",
 "extent": {
  "xmin": 1254611.1515619324,
  "ymin": 395898.8901209261,
  "xmax": 1401724.1515619324,
  "ymax": 475815.8901209261,
  "spatialReference": {
   "wkid": 32148,
   "latestWkid": 32148
  }
 },
 "initialExtent": {
  "xmin": 1254611.1515619324,
  "ymin": 395898.8901209261,
  "xmax": 1401724.1515619324,
  "ymax": 475815.8901209261,
  "spatialReference": {
   "wkid": 32148,
   "latestWkid": 32148
  }
 },
 "fullExtent": {
  "xmin": 1254611.1515619324,
  "ymin": 395898.8901209261,
  "xmax": 1401724.1515619324,
  "ymax": 475815.8901209261,
  "spatialReference": {
   "wkid": 32148,
   "latestWkid": 32148
  }
 },
 "sortableFields": "",
 "bandCount": 1,
 "pixelType": "U8",
 "minValues": [
  0
 ],
 "maxValues": [
  220
 ],
 "meanValues": [
  17.011805555556
 ],
 "stdvValues": [
  39.145338158173
 ],
 "serviceProperties": "Center<\/MosaicMethod>First<\/MosaicOperator>true<\/SortAscending><\/LockImageID><\/TileOrderField>0<\/TileOrderBase>0.000000<\/AvgImageSpacingX>0.000000<\/AvgImageSpacingY>0.0<\/ViewPointX>0.0<\/ViewPointY>0.0<\/ViewPointDefShiftX>0.0<\/ViewPointDefShiftY>None<\/CompressionMethod>75<\/CompressionQuality>0.010000<\/CompressionTolerance>Bilinear<\/SamplingMethod><\/ImageServiceProperties><\/ImageServer>",
 "allowedFields": "",
 "hasMultidimensions": false,
 "pixelSizeX": 1,
 "pixelSizeY": 1,
 "meanPixelSize": 1,
 "datasetFormat": "MrSID",
 "uncompressedSize": 11756829621,
 "blockWidth": 1024,
 "blockHeight": 128,
 "compressionType": "Wavelet (MG3)",
 "bandNames": [
  "Band_1"
 ],
 "allowCopy": true,
 "allowAnalysis": true,
 "itemAccess": false,
 "inspectionCapabilities": "",
 "minPixelSize": 0,
 "maxPixelSize": 0,
 "copyrightText": "",
 "serviceDataType": "esriImageServiceDataTypeGeneric",
 "serviceSourceType": "esriImageServiceSourceTypeDataset",
 "objectIdField": "",
 "fields": [],
 "capabilities": "Image,Metadata,Mensuration",
 "defaultMosaicMethod": "Center",
 "allowedMosaicMethods": "",
 "sortField": "",
 "sortValue": null,
 "sortAscending": true,
 "mosaicOperator": "First",
 "defaultCompressionQuality": 75,
 "defaultResamplingMethod": "Bilinear",
 "maxImageHeight": 4100,
 "maxImageWidth": 15000,
 "allowRasterFunction": true,
 "rasterFunctionInfos": [
  {
   "name": "None",
   "description": "",
   "help": ""
  }
 ],
 "rasterTypeInfos": [
  {
   "name": "Raster Dataset",
   "description": "Supports all ArcGIS Raster Datasets",
   "help": ""
  }
 ],
 "mensurationCapabilities": "Basic",
 "hasHistograms": true,
 "hasColormap": false,
 "hasRasterAttributeTable": false,
 "minScale": 0,
 "maxScale": 0,
 "exportTilesAllowed": false,
 "supportsStatistics": false,
 "supportsAdvancedQueries": false,
 "editFieldsInfo": null,
 "ownershipBasedAccessControlForRasters": null,
 "allowComputeTiePoints": false,
 "useStandardizedQueries": true,
 "advancedQueryCapabilities": {
  "useStandardizedQueries": true,
  "supportsStatistics": false,
  "supportsOrderBy": false,
  "supportsDistinct": false,
  "supportsPagination": false
 },
 "spatialReference": {
  "wkid": 32148,
  "latestWkid": 32148
 }
}
