{
 "currentVersion": 11.5,
 "serviceDescription": "Survey/Survey_1882_1916",
 "serviceItemId": "cc5bb6e33e934571b9bb2c2718b74f9d",
 "name": "Survey/Survey_1882_1916",
 "description": "",
 "extent": {
  "xmin": 1231124.8941368072,
  "ymin": 283211.5000643358,
  "xmax": 1457981.4339217704,
  "ymax": 479735.9039849403,
  "spatialReference": {
   "wkid": 102748,
   "latestWkid": 2285,
   "vcsWkid": 115702,
   "latestVcsWkid": 115702
  }
 },
 "initialExtent": {
  "xmin": 1231124.8941368072,
  "ymin": 283211.5000643358,
  "xmax": 1457981.4339217704,
  "ymax": 479735.9039849403,
  "spatialReference": {
   "wkid": 102748,
   "latestWkid": 2285,
   "vcsWkid": 115702,
   "latestVcsWkid": 115702
  }
 },
 "fullExtent": {
  "xmin": 1231124.8941368072,
  "ymin": 283211.5000643358,
  "xmax": 1457981.4339217704,
  "ymax": 479735.9039849403,
  "spatialReference": {
   "wkid": 102748,
   "latestWkid": 2285,
   "vcsWkid": 115702,
   "latestVcsWkid": 115702
  }
 },
 "sortableFields": "",
 "heightModelInfo": {
  "heightModel": "ellipsoidal",
  "vertCRS": "NAD_1983",
  "heightUnit": "meter"
 },
 "bandCount": 3,
 "pixelType": "U8",
 "minValues": [
  0,
  0,
  0
 ],
 "maxValues": [
  255,
  255,
  255
 ],
 "meanValues": [
  146.67371195361,
  128.09393875771,
  98.473824437957
 ],
 "stdvValues": [
  90.840310881404,
  79.64619910902,
  61.259365169716
 ],
 "serviceProperties": "Center<\/MosaicMethod>First<\/MosaicOperator>true<\/SortAscending><\/LockImageID><\/TileOrderField>0<\/TileOrderBase>0.000000<\/AvgImageSpacingX>0.000000<\/AvgImageSpacingY>0.0<\/ViewPointX>0.0<\/ViewPointY>0.0<\/ViewPointDefShiftX>0.0<\/ViewPointDefShiftY>None<\/CompressionMethod>75<\/CompressionQuality>0.010000<\/CompressionTolerance>Bilinear<\/SamplingMethod><\/ImageServiceProperties><\/ImageServer>",
 "allowedFields": "",
 "hasMultidimensions": false,
 "pixelSizeX": 4.413122065654377,
 "pixelSizeY": 4.44132983616815,
 "meanPixelSize": 1.3494211686800905,
 "datasetFormat": "TIFF",
 "uncompressedSize": 6823859535,
 "blockWidth": 128,
 "blockHeight": 128,
 "compressionType": "None",
 "bandNames": [
  "Band_1",
  "Band_2",
  "Band_3"
 ],
 "allowCopy": true,
 "allowAnalysis": true,
 "itemAccess": false,
 "inspectionCapabilities": "",
 "minPixelSize": 0,
 "maxPixelSize": 0,
 "copyrightText": "",
 "serviceDataType": "esriImageServiceDataTypeRGB",
 "serviceSourceType": "esriImageServiceSourceTypeDataset",
 "objectIdField": "",
 "fields": [],
 "capabilities": "Mensuration,Image,Metadata",
 "defaultMosaicMethod": "Center",
 "allowedMosaicMethods": "",
 "sortField": "",
 "sortValue": null,
 "sortAscending": true,
 "mosaicOperator": "First",
 "defaultCompressionQuality": 75,
 "defaultResamplingMethod": "Bilinear",
 "maxImageHeight": 4100,
 "maxImageWidth": 15000,
 "allowRasterFunction": true,
 "rasterFunctionInfos": [
  {
   "name": "None",
   "description": "",
   "help": ""
  }
 ],
 "rasterTypeInfos": [
  {
   "name": "Raster Dataset",
   "description": "Supports all ArcGIS Raster Datasets",
   "help": ""
  }
 ],
 "mensurationCapabilities": "Basic",
 "hasHistograms": true,
 "hasColormap": false,
 "hasRasterAttributeTable": false,
 "minScale": 0,
 "maxScale": 0,
 "exportTilesAllowed": false,
 "supportsStatistics": false,
 "supportsAdvancedQueries": false,
 "editFieldsInfo": null,
 "ownershipBasedAccessControlForRasters": null,
 "allowComputeTiePoints": false,
 "useStandardizedQueries": true,
 "advancedQueryCapabilities": {
  "useStandardizedQueries": true,
  "supportsStatistics": false,
  "supportsOrderBy": false,
  "supportsDistinct": false,
  "supportsPagination": false
 },
 "spatialReference": {
  "wkid": 102748,
  "latestWkid": 2285,
  "vcsWkid": 115702,
  "latestVcsWkid": 115702
 },
 "resampling": false
}
