<?xml version="1.0" encoding="UTF-8" standalone="no"?>
<metadata xml:lang="en">
<Esri>
<CreaDate>20110825</CreaDate>
<CreaTime>16054800</CreaTime>
<ArcGISFormat>1.0</ArcGISFormat>
<SyncOnce>FALSE</SyncOnce>
<DataProperties>
<itemProps>
<itemName Sync="TRUE">GIS_IMAGES.GDBA.HISTORIC_GLO_MAP_MOSAIC</itemName>
<imsContentType Sync="TRUE">002</imsContentType>
<nativeExtBox>
<westBL Sync="TRUE">1236093.750000</westBL>
<eastBL Sync="TRUE">1554481.451134</eastBL>
<southBL Sync="TRUE">284343.384766</southBL>
<northBL Sync="TRUE">477548.781000</northBL>
<exTypeCode Sync="TRUE">1</exTypeCode>
</nativeExtBox>
<itemLocation>
<linkage Sync="TRUE">Server=sql2012-sql127; Service=sde:sqlserver:sql2012-sql127\sql127GIS; Database=GIS_IMAGES; User=GDBA; Version=sde.DEFAULT</linkage>
<protocol Sync="TRUE">ArcSDE Connection</protocol>
</itemLocation>
</itemProps>
<lineage>
<Process Date="20110825" Time="160558" ToolSource="C:\Program Files\ArcGIS\Desktop10.0\ArcToolbox\Toolboxes\Data Management Tools.tbx\CopyRaster">CopyRaster F:\all_glos_v2.tif "Database Connections\__dba@gis_images-D@APSRV75-SQL1.sde\gis_images.DBA.all_glos_v2" # # # NONE NONE #</Process>
<Process Date="20110825" Time="163848" ToolSource="C:\Program Files\ArcGIS\Desktop10.0\ArcToolbox\Toolboxes\Data Management Tools.tbx\ChangePrivileges">ChangePrivileges 'Database Connections\__dba@gis_images-D@APSRV75-SQL1.sde\GIS_IMAGES.DBA.HISTORIC_GLO_MAP_MOSAIC' viewers GRANT #</Process>
<Process Date="20150729" Time="142451" ToolSource="c:\arcgis\desktop10.2\ArcToolbox\Toolboxes\Data Management Tools.tbx\ChangePrivileges">ChangePrivileges 'Database Connections\GDBA@GIS_IMAGES@sql2012-sql127GIS.sde\GIS_IMAGES.GDBA.AERIALS_EXPRESS_2009_1FT_COLOR';'Database Connections\GDBA@GIS_IMAGES@sql2012-sql127GIS.sde\GIS_IMAGES.GDBA.Aerials_Express_2009_1FT_color_indexgrid';'Database Connections\GDBA@GIS_IMAGES@sql2012-sql127GIS.sde\GIS_IMAGES.GDBA.HISTORIC_GLO_MAP_MOSAIC';'Database Connections\GDBA@GIS_IMAGES@sql2012-sql127GIS.sde\GIS_IMAGES.GDBA.HISTORIC_USGS_125K_MOSAIC';'Database Connections\GDBA@GIS_IMAGES@sql2012-sql127GIS.sde\GIS_IMAGES.GDBA.LANDCOVER1991';'Database Connections\GDBA@GIS_IMAGES@sql2012-sql127GIS.sde\GIS_IMAGES.GDBA.LANDCOVER1998';'Database Connections\GDBA@GIS_IMAGES@sql2012-sql127GIS.sde\GIS_IMAGES.GDBA.LANDCOVER2001';'Database Connections\GDBA@GIS_IMAGES@sql2012-sql127GIS.sde\GIS_IMAGES.GDBA.LANDCOVER2006';'Database Connections\GDBA@GIS_IMAGES@sql2012-sql127GIS.sde\GIS_IMAGES.GDBA.LIDAR__HILLSHADE__BARE_EARTH_2015';'Database Connections\GDBA@GIS_IMAGES@sql2012-sql127GIS.sde\GIS_IMAGES.GDBA.LIDAR__HILLSHADE__FIRST_RETURN_2015';'Database Connections\GDBA@GIS_IMAGES@sql2012-sql127GIS.sde\GIS_IMAGES.GDBA.lidar_hs_2';'Database Connections\GDBA@GIS_IMAGES@sql2012-sql127GIS.sde\GIS_IMAGES.GDBA.ORTHO_2007_1FT_COLOR';'Database Connections\GDBA@GIS_IMAGES@sql2012-sql127GIS.sde\GIS_IMAGES.GDBA.ORTHO_2011_1FT_NE';'Database Connections\GDBA@GIS_IMAGES@sql2012-sql127GIS.sde\GIS_IMAGES.GDBA.ORTHO_2011_1FT_NW';'Database Connections\GDBA@GIS_IMAGES@sql2012-sql127GIS.sde\GIS_IMAGES.GDBA.ORTHO_2011_1FT_SE';'Database Connections\GDBA@GIS_IMAGES@sql2012-sql127GIS.sde\GIS_IMAGES.GDBA.ORTHO_2011_1FT_SW';'Database Connections\GDBA@GIS_IMAGES@sql2012-sql127GIS.sde\GIS_IMAGES.GDBA.ORTHO_2012_9IN_COLOR_INDEX';'Database Connections\GDBA@GIS_IMAGES@sql2012-sql127GIS.sde\GIS_IMAGES.GDBA.orthoindex_1ft_color_0203';'Database Connections\GDBA@GIS_IMAGES@sql2012-sql127GIS.sde\GIS_IMAGES.GDBA.orthoindex_1ft_color_2002';'Database Connections\GDBA@GIS_IMAGES@sql2012-sql127GIS.sde\GIS_IMAGES.GDBA.orthoindex_1ft_color_2003';'Database Connections\GDBA@GIS_IMAGES@sql2012-sql127GIS.sde\GIS_IMAGES.GDBA.orthoindex_1ft_color_2007';'Database Connections\GDBA@GIS_IMAGES@sql2012-sql127GIS.sde\GIS_IMAGES.GDBA.PUGETSOUNDBATHYMETRY';'Database Connections\GDBA@GIS_IMAGES@sql2012-sql127GIS.sde\GIS_IMAGES.GDBA.QUICKBIRD_20050717_2FT_MS';'Database Connections\GDBA@GIS_IMAGES@sql2012-sql127GIS.sde\GIS_IMAGES.GDBA.QUICKBIRD_20070731_2FT_PANSHARP';'Database Connections\GDBA@GIS_IMAGES@sql2012-sql127GIS.sde\GIS_IMAGES.GDBA.QUICKBIRD_20070731_8FT_MS';'Database Connections\GDBA@GIS_IMAGES@sql2012-sql127GIS.sde\GIS_IMAGES.GDBA.QUICKBIRD_20090728_6FT_MS';'Database Connections\GDBA@GIS_IMAGES@sql2012-sql127GIS.sde\GIS_IMAGES.GDBA.relief_lidar_extent' viewers GRANT #</Process>
</lineage>
<coordRef>
<type Sync="TRUE">Projected</type>
<geogcsn Sync="TRUE">GCS_North_American_1983</geogcsn>
<csUnits Sync="TRUE">Linear Unit: Foot_US (0.304801)</csUnits>
<projcsn Sync="TRUE">NAD_1983_StatePlane_Washington_North_FIPS_4601_Feet</projcsn>
<peXml Sync="TRUE">&lt;ProjectedCoordinateSystem xsi:type='typens:ProjectedCoordinateSystem' xmlns:xsi='http://www.w3.org/2001/XMLSchema-instance' xmlns:xs='http://www.w3.org/2001/XMLSchema' xmlns:typens='http://www.esri.com/schemas/ArcGIS/10.1'&gt;&lt;WKT&gt;PROJCS[&amp;quot;NAD_1983_StatePlane_Washington_North_FIPS_4601_Feet&amp;quot;,GEOGCS[&amp;quot;GCS_North_American_1983&amp;quot;,DATUM[&amp;quot;D_North_American_1983&amp;quot;,SPHEROID[&amp;quot;GRS_1980&amp;quot;,6378137.0,298.257222101]],PRIMEM[&amp;quot;Greenwich&amp;quot;,0.0],UNIT[&amp;quot;Degree&amp;quot;,0.0174532925199433]],PROJECTION[&amp;quot;Lambert_Conformal_Conic&amp;quot;],PARAMETER[&amp;quot;False_Easting&amp;quot;,1640416.666666667],PARAMETER[&amp;quot;False_Northing&amp;quot;,0.0],PARAMETER[&amp;quot;Central_Meridian&amp;quot;,-120.8333333333333],PARAMETER[&amp;quot;Standard_Parallel_1&amp;quot;,47.5],PARAMETER[&amp;quot;Standard_Parallel_2&amp;quot;,48.73333333333333],PARAMETER[&amp;quot;Latitude_Of_Origin&amp;quot;,47.0],UNIT[&amp;quot;Foot_US&amp;quot;,0.3048006096012192],AUTHORITY[&amp;quot;EPSG&amp;quot;,2285]]&lt;/WKT&gt;&lt;XOrigin&gt;-117104300&lt;/XOrigin&gt;&lt;YOrigin&gt;-99539600&lt;/YOrigin&gt;&lt;XYScale&gt;37926742.22403606&lt;/XYScale&gt;&lt;ZOrigin&gt;0&lt;/ZOrigin&gt;&lt;ZScale&gt;1&lt;/ZScale&gt;&lt;MOrigin&gt;0&lt;/MOrigin&gt;&lt;MScale&gt;1&lt;/MScale&gt;&lt;XYTolerance&gt;0.0032808333333333331&lt;/XYTolerance&gt;&lt;ZTolerance&gt;2&lt;/ZTolerance&gt;&lt;MTolerance&gt;2&lt;/MTolerance&gt;&lt;HighPrecision&gt;true&lt;/HighPrecision&gt;&lt;WKID&gt;102748&lt;/WKID&gt;&lt;LatestWKID&gt;2285&lt;/LatestWKID&gt;&lt;/ProjectedCoordinateSystem&gt;</peXml>
</coordRef>
</DataProperties>
<SyncDate>20150724</SyncDate>
<SyncTime>07182300</SyncTime>
<ModDate>20150724</ModDate>
<ModTime>07182300</ModTime>
</Esri>
<dataIdInfo>
<envirDesc Sync="TRUE">Microsoft Windows 7 Version 6.1 (Build 7601) Service Pack 1; Esri ArcGIS 10.2.2.3552</envirDesc>
<dataLang>
<languageCode country="US" value="en"/>
<countryCode Sync="TRUE" value="USA"/>
</dataLang>
<idCitation>
<resTitle Sync="TRUE">Survey_GLO</resTitle>
<presForm>
<PresFormCd Sync="TRUE" value="011"/>
</presForm>
</idCitation>
<descKeys>
<thesaName uuidref="723f6998-058e-11dc-8314-0800200c9a66"/>
<keyword Sync="TRUE">002</keyword>
</descKeys>
<spatRpType>
<SpatRepTypCd value="002"/>
</spatRpType>
<dataExt>
<geoEle>
<GeoBndBox esriExtentType="search">
<exTypeCode Sync="TRUE">1</exTypeCode>
<westBL Sync="TRUE">-122.494534</westBL>
<eastBL Sync="TRUE">-121.182853</eastBL>
<northBL Sync="TRUE">48.308625</northBL>
<southBL Sync="TRUE">47.767675</southBL>
</GeoBndBox>
</geoEle>
</dataExt>
<idAbs/>
<searchKeys>
<keyword>Survey</keyword>
<keyword>GLO</keyword>
</searchKeys>
<idPurp>Historical GLO survey</idPurp>
<idCredit/>
<resConst>
<Consts>
<useLimit/>
</Consts>
</resConst>
</dataIdInfo>
<mdLang>
<languageCode value="en"/>
<countryCode Sync="TRUE" value="USA"/>
</mdLang>
<mdChar>
<CharSetCd value="004"/>
</mdChar>
<distInfo>
<distFormat>
<formatName Sync="TRUE">SDE Raster Dataset</formatName>
</distFormat>
</distInfo>
<mdHrLv>
<ScopeCd value="005"/>
</mdHrLv>
<mdHrLvName Sync="TRUE">dataset</mdHrLvName>
<spdoinfo>
<rastinfo>
<rasttype Sync="TRUE">Pixel</rasttype>
<rowcount Sync="TRUE">21839</rowcount>
<colcount Sync="TRUE">35989</colcount>
<rastxsz Sync="TRUE">8.846806</rastxsz>
<rastysz Sync="TRUE">8.846806</rastysz>
<rastbpp Sync="TRUE">8</rastbpp>
<vrtcount Sync="TRUE">1</vrtcount>
<rastorig Sync="TRUE">Upper Left</rastorig>
<rastcmap Sync="TRUE">FALSE</rastcmap>
<rastcomp Sync="TRUE">JPEG</rastcomp>
<rastband Sync="TRUE">1</rastband>
<rastdtyp Sync="TRUE">pixel codes</rastdtyp>
<rastifor Sync="TRUE">SDR</rastifor>
<rastplyr Sync="TRUE">TRUE</rastplyr>
</rastinfo>
</spdoinfo>
<spref>
<horizsys>
<planar>
<planci>
<plance Sync="TRUE">row and column</plance>
<coordrep>
<absres Sync="TRUE">8.846806</absres>
<ordres Sync="TRUE">8.846806</ordres>
</coordrep>
</planci>
</planar>
</horizsys>
</spref>
<mdDateSt Sync="TRUE">20150724</mdDateSt>
<refSysInfo>
<RefSystem>
<refSysID>
<identCode Sync="TRUE" code="2285"/>
<idCodeSpace Sync="TRUE">EPSG</idCodeSpace>
<idVersion Sync="TRUE">8.2.6</idVersion>
</refSysID>
</RefSystem>
</refSysInfo>
</metadata>
