This raster was derived from LiDAR survey contracted by the US Geological Survey between 2013 -16. More information is available by reading this report, //snoco/gis_ortho/Lidar/3DEP_WA2015/documentation/Western_Washington_3DEP_Technical_Data_Report.pdf<\/SPAN><\/P><\/DIV><\/DIV><\/DIV>",
"serviceItemId": "387e761209434062a5c585cd7d4a2c0a",
"name": "Topography/Elevation",
"description": "This raster was derived from LiDAR survey contracted by the US Geological Survey between 2013 -16. More information is available by reading this report, //snoco/gis_ortho/Lidar/3DEP_WA2015/documentation/Western_Washington_3DEP_Technical_Data_Report.pdf<\/SPAN><\/P><\/DIV><\/DIV><\/DIV>",
"extent": {
"xmin": 1254947.2500964748,
"ymin": 126979.37511660444,
"xmax": 1623342.499911292,
"ymax": 540611.3859838975,
"spatialReference": {
"wkid": 102748,
"latestWkid": 2285
}
},
"initialExtent": {
"xmin": 1254947.2500964748,
"ymin": 126979.37511660444,
"xmax": 1623342.499911292,
"ymax": 540611.3859838975,
"spatialReference": {
"wkid": 102748,
"latestWkid": 2285
}
},
"fullExtent": {
"xmin": 1254947.2500964748,
"ymin": 126979.37511660444,
"xmax": 1623342.499911292,
"ymax": 540611.3859838975,
"spatialReference": {
"wkid": 102748,
"latestWkid": 2285
}
},
"sortableFields": "",
"bandCount": 1,
"pixelType": "F32",
"minValues": [
-8
],
"maxValues": [
10544.404296875
],
"meanValues": [
2292.3323551778
],
"stdvValues": [
1801.7148756716
],
"serviceProperties": "Center<\/MosaicMethod>First<\/MosaicOperator>true<\/SortAscending><\/LockImageID><\/TileOrderField>0<\/TileOrderBase>0.000000<\/AvgImageSpacingX>0.000000<\/AvgImageSpacingY>0.0<\/ViewPointX>0.0<\/ViewPointY>0.0<\/ViewPointDefShiftX>0.0<\/ViewPointDefShiftY>None<\/CompressionMethod>75<\/CompressionQuality>0.010000<\/CompressionTolerance>Bilinear<\/SamplingMethod><\/ImageServiceProperties><\/ImageServer>",
"allowedFields": "",
"hasMultidimensions": false,
"pixelSizeX": 1.4999989813182457,
"pixelSizeY": 1.4999982262054834,
"meanPixelSize": 0.45720048882759406,
"datasetFormat": "TIFF",
"uncompressedSize": 270898402940,
"blockWidth": 128,
"blockHeight": 128,
"compressionType": "LZW",
"bandNames": [
"Band_1"
],
"allowCopy": true,
"allowAnalysis": true,
"itemAccess": false,
"inspectionCapabilities": "",
"noDataValue": 3.3999999521443642E38,
"noDataValues": [
3.3999999521443642E38
],
"minPixelSize": 0,
"maxPixelSize": 0,
"copyrightText": "Snohomish County Information Technology",
"serviceDataType": "esriImageServiceDataTypeGeneric",
"serviceSourceType": "esriImageServiceSourceTypeDataset",
"objectIdField": "",
"fields": [],
"capabilities": "Image,Metadata,Mensuration",
"defaultMosaicMethod": "Center",
"allowedMosaicMethods": "",
"sortField": "",
"sortValue": null,
"sortAscending": true,
"mosaicOperator": "First",
"defaultCompressionQuality": 75,
"defaultResamplingMethod": "Bilinear",
"maxImageHeight": 4100,
"maxImageWidth": 15000,
"allowRasterFunction": true,
"rasterFunctionInfos": [
{
"name": "None",
"description": "",
"help": ""
}
],
"rasterTypeInfos": [
{
"name": "Raster Dataset",
"description": "Supports all ArcGIS Raster Datasets",
"help": ""
}
],
"mensurationCapabilities": "Basic",
"hasHistograms": true,
"hasColormap": false,
"hasRasterAttributeTable": false,
"minScale": 0,
"maxScale": 0,
"exportTilesAllowed": false,
"supportsStatistics": false,
"supportsAdvancedQueries": false,
"editFieldsInfo": null,
"ownershipBasedAccessControlForRasters": null,
"allowComputeTiePoints": false,
"useStandardizedQueries": true,
"advancedQueryCapabilities": {
"useStandardizedQueries": true,
"supportsStatistics": false,
"supportsOrderBy": false,
"supportsDistinct": false,
"supportsPagination": false
},
"spatialReference": {
"wkid": 102748,
"latestWkid": 2285
}
}