This raster was derived <\/SPAN>from LiDAR survey contracted by the US Geological Survey between 2013 -16. More information is available by reading this report, //snoco/gis_ortho/Lidar/3DEP_WA2015/documentation/Western_Washington_3DEP_Technical_Data_Report.pdf<\/SPAN><\/SPAN><\/P><\/P>
<\/P><\/DIV><\/DIV><\/DIV>",
"serviceItemId": "f8c066d4a68946fdbe16d369e2b7dcbb",
"name": "Topography/LIDAR_HILLSHADE_BARE_EARTH",
"description": "
This raster was derived <\/SPAN>from LiDAR survey contracted by the US Geological Survey between 2013 -16. More information is available by reading this report, //snoco/gis_ortho/Lidar/3DEP_WA2015/documentation/Western_Washington_3DEP_Technical_Data_Report.pdf<\/SPAN><\/SPAN><\/P><\/P>
<\/P><\/DIV><\/DIV><\/DIV>",
"extent": {
"xmin": 1255946.2453504128,
"ymin": 127978.37443816231,
"xmax": 1622343.504657356,
"ymax": 539612.4188325873,
"spatialReference": {
"wkid": 102748,
"latestWkid": 2285
}
},
"initialExtent": {
"xmin": 1255946.2453504128,
"ymin": 127978.37443816231,
"xmax": 1622343.504657356,
"ymax": 539612.4188325873,
"spatialReference": {
"wkid": 102748,
"latestWkid": 2285
}
},
"fullExtent": {
"xmin": 1255946.2453504128,
"ymin": 127978.37443816231,
"xmax": 1622343.504657356,
"ymax": 539612.4188325873,
"spatialReference": {
"wkid": 102748,
"latestWkid": 2285
}
},
"sortableFields": "",
"bandCount": 1,
"pixelType": "U8",
"minValues": [
1
],
"maxValues": [
238
],
"meanValues": [
177.79167629866
],
"stdvValues": [
53.290416980244
],
"serviceProperties": "Center<\/MosaicMethod>First<\/MosaicOperator>true<\/SortAscending><\/LockImageID><\/TileOrderField>0<\/TileOrderBase>0.000000<\/AvgImageSpacingX>0.000000<\/AvgImageSpacingY>0.0<\/ViewPointX>0.0<\/ViewPointY>0.0<\/ViewPointDefShiftX>0.0<\/ViewPointDefShiftY>None<\/CompressionMethod>75<\/CompressionQuality>0.010000<\/CompressionTolerance>Bilinear<\/SamplingMethod><\/ImageServiceProperties><\/ImageServer>",
"allowedFields": "",
"hasMultidimensions": false,
"pixelSizeX": 1.4999928737808097,
"pixelSizeY": 1.49999287378081,
"meanPixelSize": 0.4571987423258755,
"datasetFormat": "IMAGINE Image",
"uncompressedSize": 67032452784,
"blockWidth": 64,
"blockHeight": 64,
"compressionType": "None",
"bandNames": [
"Layer_1"
],
"allowCopy": true,
"allowAnalysis": true,
"itemAccess": false,
"inspectionCapabilities": "",
"noDataValue": 255,
"noDataValues": [
255
],
"minPixelSize": 0,
"maxPixelSize": 0,
"copyrightText": "Snohomish County Information Technology",
"serviceDataType": "esriImageServiceDataTypeProcessed",
"serviceSourceType": "esriImageServiceSourceTypeDataset",
"objectIdField": "",
"fields": [],
"capabilities": "Image,Metadata,Mensuration",
"defaultMosaicMethod": "Center",
"allowedMosaicMethods": "",
"sortField": "",
"sortValue": null,
"sortAscending": true,
"mosaicOperator": "First",
"defaultCompressionQuality": 75,
"defaultResamplingMethod": "Bilinear",
"maxImageHeight": 4100,
"maxImageWidth": 15000,
"allowRasterFunction": true,
"rasterFunctionInfos": [
{
"name": "None",
"description": "",
"help": ""
}
],
"rasterTypeInfos": [
{
"name": "Raster Dataset",
"description": "Supports all ArcGIS Raster Datasets",
"help": ""
}
],
"mensurationCapabilities": "Basic",
"hasHistograms": true,
"hasColormap": false,
"hasRasterAttributeTable": true,
"minScale": 0,
"maxScale": 0,
"exportTilesAllowed": false,
"supportsStatistics": false,
"supportsAdvancedQueries": false,
"editFieldsInfo": null,
"ownershipBasedAccessControlForRasters": null,
"allowComputeTiePoints": false,
"useStandardizedQueries": true,
"advancedQueryCapabilities": {
"useStandardizedQueries": true,
"supportsStatistics": false,
"supportsOrderBy": false,
"supportsDistinct": false,
"supportsPagination": false
},
"spatialReference": {
"wkid": 102748,
"latestWkid": 2285
}
}