This raster was derived from LiDAR survey contracted by the US Geological Survey between 2013 -16. More information is available by reading this report, //snoco/gis_ortho/Lidar/3DEP_WA2015/documentation/Western_Washington_3DEP_Technical_Data_Report.pdf<\/SPAN><\/P><\/DIV><\/DIV><\/DIV>",
"serviceItemId": "bce4759120944905a3e86a61b9c904f4",
"name": "MapService/pds_elevation",
"description": "",
"extent": {
"xmin": 1253544.57021712,
"ymin": 284328.0714949826,
"xmax": 1611456.57021712,
"ymax": 477036.0714949826,
"spatialReference": {
"wkid": 102748,
"latestWkid": 2285
}
},
"initialExtent": {
"xmin": 1253544.57021712,
"ymin": 284328.0714949826,
"xmax": 1611456.57021712,
"ymax": 477036.0714949826,
"spatialReference": {
"wkid": 102748,
"latestWkid": 2285
}
},
"fullExtent": {
"xmin": 1253544.57021712,
"ymin": 284328.0714949826,
"xmax": 1611456.57021712,
"ymax": 477036.0714949826,
"spatialReference": {
"wkid": 102748,
"latestWkid": 2285
}
},
"sortableFields": "",
"bandCount": 1,
"pixelType": "F32",
"minValues": [
-7.732500076293945
],
"maxValues": [
10541.796875
],
"meanValues": [
1782.2384455597717
],
"stdvValues": [
1804.9010040700664
],
"serviceProperties": "Center<\/MosaicMethod>First<\/MosaicOperator>true<\/SortAscending><\/LockImageID><\/TileOrderField>0<\/TileOrderBase>0.000000<\/AvgImageSpacingX>0.000000<\/AvgImageSpacingY>0.0<\/ViewPointX>0.0<\/ViewPointY>0.0<\/ViewPointDefShiftX>0.0<\/ViewPointDefShiftY>None<\/CompressionMethod>75<\/CompressionQuality>0.010000<\/CompressionTolerance>Bilinear<\/SamplingMethod><\/ImageServiceProperties><\/ImageServer>",
"allowedFields": "",
"hasMultidimensions": false,
"pixelSizeX": 36,
"pixelSizeY": 36,
"meanPixelSize": 10.972821945643894,
"datasetFormat": "FGDBR",
"uncompressedSize": 212878104,
"blockWidth": 128,
"blockHeight": 128,
"compressionType": "LZ77",
"bandNames": [
"Band_1"
],
"allowCopy": true,
"allowAnalysis": true,
"itemAccess": false,
"inspectionCapabilities": "",
"minPixelSize": 0,
"maxPixelSize": 0,
"copyrightText": "Snohomish County Information Technology",
"serviceDataType": "esriImageServiceDataTypeGeneric",
"serviceSourceType": "esriImageServiceSourceTypeDataset",
"objectIdField": "",
"fields": [],
"capabilities": "Image,Metadata,Mensuration",
"defaultMosaicMethod": "Center",
"allowedMosaicMethods": "",
"sortField": "",
"sortValue": null,
"sortAscending": true,
"mosaicOperator": "First",
"defaultCompressionQuality": 75,
"defaultResamplingMethod": "Bilinear",
"maxImageHeight": 4100,
"maxImageWidth": 15000,
"allowRasterFunction": true,
"rasterFunctionInfos": [
{
"name": "None",
"description": "",
"help": ""
}
],
"rasterTypeInfos": [
{
"name": "Raster Dataset",
"description": "Supports all ArcGIS Raster Datasets",
"help": ""
}
],
"mensurationCapabilities": "Basic",
"hasHistograms": true,
"hasColormap": false,
"hasRasterAttributeTable": false,
"minScale": 0,
"maxScale": 0,
"exportTilesAllowed": false,
"supportsStatistics": false,
"supportsAdvancedQueries": false,
"editFieldsInfo": null,
"ownershipBasedAccessControlForRasters": null,
"allowComputeTiePoints": false,
"useStandardizedQueries": true,
"advancedQueryCapabilities": {
"useStandardizedQueries": true,
"supportsStatistics": false,
"supportsOrderBy": false,
"supportsDistinct": false,
"supportsPagination": false
},
"spatialReference": {
"wkid": 102748,
"latestWkid": 2285
}
}