{ "currentVersion": 11.5, "serviceDescription": "

For Snohomish County, the roof snow load may be greater than or equal to 25 pounds per square foot (psf) depending on the elevation of the site location. Applicants for building permits must account for the ground snow load calculations, as verified by the Plans Examiner. Map algebra and raster calculations derived the Snow Load by multiplying the elevation times the Snow Load factor. These pixel-values represent the actual Snow Load calculation in psf at that spot.<\/SPAN><\/P>
[ Snow Load Calculation {psf} = (Snow Load Factor {pixel-value}) x (Elevation {ft.}) ]<\/SPAN><\/P>
As the American Society of Civil Engineers states that \"in civil engineering, design loads are defined as the maximum amount that a structure can handle\". Since the International Code Council (ICC), as with the historical Universal Building Codes (UBC), indicates in section 1608.2 that \"Ground snow loads\" for the area of Snohomish County falls under a Case Study (CS). The Washington Association of Building Officials (WABO) and Structural Engineers Association of Washington (SEAW) organizations have a White Paper which provides more detailed information. During the early 2000's, PDS Engineers and Plans Examiners decided on the iso-lines for the Snow Load factor. Further interpolations and vector-to-raster transformations occurred. In 2007, the Snohomish County Code (SCC) 30.52F.300TableR 301.2(1) was amended in to establish a Minimum Roof Snow Load of 25 psf. In 2015, the PDS created a web application (PDS Map Portal) that allows users to find Snow Loads at any given location as compiled in a PDS Property Report. <\/SPAN><\/P><\/DIV><\/DIV><\/DIV>", "serviceItemId": "865a36503e3143b0a817b3724dcc87f3", "name": "MapService/pds_snowload", "description": "", "extent": { "xmin": 1244714.0060222347, "ymin": 284276.07398362743, "xmax": 1622426.0060222347, "ymax": 477596.07398362743, "spatialReference": { "wkid": 102748, "latestWkid": 2285 } }, "initialExtent": { "xmin": 1244714.0060222347, "ymin": 284276.07398362743, "xmax": 1622426.0060222347, "ymax": 477596.07398362743, "spatialReference": { "wkid": 102748, "latestWkid": 2285 } }, "fullExtent": { "xmin": 1244714.0060222347, "ymin": 284276.07398362743, "xmax": 1622426.0060222347, "ymax": 477596.07398362743, "spatialReference": { "wkid": 102748, "latestWkid": 2285 } }, "sortableFields": "", "bandCount": 1, "pixelType": "U16", "minValues": [ 25 ], "maxValues": [ 1002 ], "meanValues": [ 174.93848070080006 ], "stdvValues": [ 169.44918415738013 ], "serviceProperties": "Center<\/MosaicMethod>First<\/MosaicOperator>true<\/SortAscending><\/LockImageID><\/TileOrderField>0<\/TileOrderBase>0.000000<\/AvgImageSpacingX>0.000000<\/AvgImageSpacingY>0.0<\/ViewPointX>0.0<\/ViewPointY>0.0<\/ViewPointDefShiftX>0.0<\/ViewPointDefShiftY>None<\/CompressionMethod>75<\/CompressionQuality>0.010000<\/CompressionTolerance>Bilinear<\/SamplingMethod><\/ImageServiceProperties><\/ImageServer>", "allowedFields": "", "hasMultidimensions": false, "pixelSizeX": 36, "pixelSizeY": 36, "meanPixelSize": 10.972821945643894, "datasetFormat": "SDR", "uncompressedSize": 112684080, "blockWidth": 128, "blockHeight": 128, "compressionType": "LZ77", "bandNames": [ "Band_1" ], "allowCopy": true, "allowAnalysis": true, "itemAccess": false, "inspectionCapabilities": "", "minPixelSize": 0, "maxPixelSize": 0, "copyrightText": "PDS; ICC; ASCE; WABO; SEAW.", "serviceDataType": "esriImageServiceDataTypeGeneric", "serviceSourceType": "esriImageServiceSourceTypeDataset", "objectIdField": "", "fields": [], "capabilities": "Image,Metadata,Mensuration", "defaultMosaicMethod": "Center", "allowedMosaicMethods": "", "sortField": "", "sortValue": null, "sortAscending": true, "mosaicOperator": "First", "defaultCompressionQuality": 75, "defaultResamplingMethod": "Bilinear", "maxImageHeight": 4100, "maxImageWidth": 15000, "allowRasterFunction": true, "rasterFunctionInfos": [ { "name": "None", "description": "", "help": "" } ], "rasterTypeInfos": [ { "name": "Raster Dataset", "description": "Supports all ArcGIS Raster Datasets", "help": "" } ], "mensurationCapabilities": "Basic", "hasHistograms": true, "hasColormap": false, "hasRasterAttributeTable": false, "minScale": 0, "maxScale": 0, "exportTilesAllowed": false, "supportsStatistics": false, "supportsAdvancedQueries": false, "editFieldsInfo": null, "ownershipBasedAccessControlForRasters": null, "allowComputeTiePoints": false, "useStandardizedQueries": true, "advancedQueryCapabilities": { "useStandardizedQueries": true, "supportsStatistics": false, "supportsOrderBy": false, "supportsDistinct": false, "supportsPagination": false }, "spatialReference": { "wkid": 102748, "latestWkid": 2285 } }