View In:
ArcGIS JavaScript
ArcGIS Online Map Viewer
ArcGIS Earth
ArcGIS Pro
Service Description:
Map Name: WebAppLayers
Legend
All Layers and Tables
Layers:
Description:
Service Item Id: 7dff01702c4347b6a00d13548bd6bba6
Copyright Text:
Spatial Reference:
102748
(2285)
LatestVCSWkid(0)
Single Fused Map Cache: true
Tile Info:
- Height: 256.0
- Width: 256.0
- DPI: 96.0
-
Levels of Detail: 19
-
Level ID: 0
[ Start Tile, End Tile ]
- Resolution: 927690.1818583971
- Scale: 1.0687012269033273E9
-
Level ID: 1
[ Start Tile, End Tile ]
- Resolution: 463845.09092919854
- Scale: 5.343506134516637E8
-
Level ID: 2
[ Start Tile, End Tile ]
- Resolution: 231922.54546459927
- Scale: 2.6717530672583184E8
-
Level ID: 3
[ Start Tile, End Tile ]
- Resolution: 115961.27273229964
- Scale: 1.3358765336291592E8
-
Level ID: 4
[ Start Tile, End Tile ]
- Resolution: 57980.63636614982
- Scale: 6.679382668145796E7
-
Level ID: 5
[ Start Tile, End Tile ]
- Resolution: 28990.31818307491
- Scale: 3.339691334072898E7
-
Level ID: 6
[ Start Tile, End Tile ]
- Resolution: 14495.159091537455
- Scale: 1.669845667036449E7
-
Level ID: 7
[ Start Tile, End Tile ]
- Resolution: 7247.579545768727
- Scale: 8349228.335182245
-
Level ID: 8
[ Start Tile, End Tile ]
- Resolution: 3623.7897728843636
- Scale: 4174614.1675911224
-
Level ID: 9
[ Start Tile, End Tile ]
- Resolution: 1811.8948864421818
- Scale: 2087307.0837955612
-
Level ID: 10
[ Start Tile, End Tile ]
- Resolution: 905.9474432210909
- Scale: 1043653.5418977806
-
Level ID: 11
[ Start Tile, End Tile ]
- Resolution: 452.97372161054545
- Scale: 521826.7709488903
-
Level ID: 12
[ Start Tile, End Tile ]
- Resolution: 226.48686080527273
- Scale: 260913.38547444515
-
Level ID: 13
[ Start Tile, End Tile ]
- Resolution: 113.24343040263636
- Scale: 130456.69273722258
-
Level ID: 14
[ Start Tile, End Tile ]
- Resolution: 56.62171520131818
- Scale: 65228.34636861129
-
Level ID: 15
[ Start Tile, End Tile ]
- Resolution: 28.31085760065909
- Scale: 32614.173184305644
-
Level ID: 16
[ Start Tile, End Tile ]
- Resolution: 14.155428800329545
- Scale: 16307.086592152822
-
Level ID: 17
[ Start Tile, End Tile ]
- Resolution: 7.077714400164773
- Scale: 8153.543296076411
-
Level ID: 18
[ Start Tile, End Tile ]
- Resolution: 3.5388572000823864
- Scale: 4076.7716480382055
- Format: Mixed
- Compression Quality: 75.0
- Origin: X: -1.1710392661120817E8
Y: 1.1983097835022256E8
- Spatial Reference: 102748
(2285)
LatestVCSWkid(0)
Storage Info:
- Storage Format: esriMapCacheStorageModeCompactV2
- Packet Size: 128
Initial Extent:
XMin: 1193325.3619252304
YMin: 274677.3663215689
XMax: 1673799.0299689672
YMax: 487204.9126567044
Spatial Reference: 102748
(2285)
LatestVCSWkid(0)
Full Extent:
XMin: 1240638.451801896
YMin: 280198.85416163766
XMax: 1622534.1289529551
YMax: 481754.9480988648
Spatial Reference: 102748
(2285)
LatestVCSWkid(0)
Units: esriFeet
Supported Image Format Types: PNG32,PNG24,PNG,JPG,DIB,TIFF,EMF,PS,PDF,GIF,SVG,SVGZ,BMP
Document Info:
Title: WebAppLayers
Author:
Comments:
Subject:
Category:
Keywords:
AntialiasingMode: None
TextAntialiasingMode: Force
Supports Dynamic Layers: false
MaxRecordCount: 1000
MaxSelectionCount: 0
MaxImageHeight: 4096
MaxImageWidth: 4096
Supported Query Formats: JSON, geoJSON, PBF
Supports Query Data Elements: true
Min Scale: 1043653.5418977806
Max Scale: 16307.086592152822
Min LOD: 10
Max LOD: 16
Supports Datum Transformation: true
Child Resources:
Info
Supported Operations:
QueryLegends
Return Updates