View In:
ArcGIS JavaScript
ArcGIS Online Map Viewer
ArcGIS Earth
Service Description: DEM_UAS/BoardmanCreek_03NOV2023_tif
Name: DEM_UAS/BoardmanCreek_03NOV2023_tif
Description:
Single Fused Map Cache: false
Extent:
XMin: 598168.46498
YMin: 5324714.22762
XMax: 598288.10603
YMax: 5324905.99902
Spatial Reference: 32610
(32610)
LatestVCSWkid(0)
Initial Extent:
XMin: 598168.46498
YMin: 5324714.22762
XMax: 598288.10603
YMax: 5324905.99902
Spatial Reference: 32610
(32610)
LatestVCSWkid(0)
Full Extent:
XMin: 598168.46498
YMin: 5324714.22762
XMax: 598288.10603
YMax: 5324905.99902
Spatial Reference: 32610
(32610)
LatestVCSWkid(0)
Pixel Size X: 0.0064499999999987345
Pixel Size Y: 0.006449999999998948
Band Count: 4
Pixel Type: U8
RasterFunction Infos: {"rasterFunctionInfos": [{
"name": "None",
"description": "",
"help": ""
}]}
Mensuration Capabilities: Basic
Inspection Capabilities:
Has Histograms: true
Has Colormap: false
Has Multi Dimensions : false
Rendering Rule:
Min Scale: 0
Max Scale: 0
Copyright Text:
Service Data Type: esriImageServiceDataTypeGeneric
Min Values: 1, 1, 1, 255
Max Values: 255, 255, 255, 255
Mean Values: 96.286741692482, 96.209189162023, 85.761215148258, 255
Standard Deviation Values: 44.15949569509, 44.491123345427, 45.143698240263, 0
Object ID Field:
Fields:
None
Default Mosaic Method: Center
Allowed Mosaic Methods:
SortField:
SortValue: null
Mosaic Operator: First
Default Compression Quality: 75
Default Resampling Method: Bilinear
Max Record Count: null
Max Image Height: 4100
Max Image Width: 15000
Max Download Image Count: null
Max Mosaic Image Count: null
Allow Raster Function: true
Allow Copy: true
Allow Analysis: true
Allow Compute TiePoints: false
Supports Statistics: false
Supports Advanced Queries: false
Use StandardizedQueries: true
Raster Type Infos:
Name: Raster Dataset
Description: Supports all ArcGIS Raster Datasets
Help:
Has Raster Attribute Table: false
Edit Fields Info: null
Ownership Based AccessControl For Rasters: null
Child Resources:
Info
Histograms
Statistics
Key Properties
Legend
Raster Function Infos
Supported Operations:
Export Image
Identify
Measure
Compute Histograms
Compute Statistics Histograms
Get Samples
Compute Class Statistics
Query Boundary
Compute Pixel Location
Compute Angles
Validate
Project