View In:
ArcGIS JavaScript
ArcGIS Online Map Viewer
ArcGIS Earth
Service Description: DEM_UAS/MartenCreekHighElev_03NOV2023
Name: DEM_UAS/MartenCreekHighElev_03NOV2023
Description:
Single Fused Map Cache: false
Extent:
XMin: 603642.74468
YMin: 5325148.53354
XMax: 603820.07392
YMax: 5325378.49368
Spatial Reference: 32610
(32610)
LatestVCSWkid(0)
Initial Extent:
XMin: 603642.74468
YMin: 5325148.53354
XMax: 603820.07392
YMax: 5325378.49368
Spatial Reference: 32610
(32610)
LatestVCSWkid(0)
Full Extent:
XMin: 603642.74468
YMin: 5325148.53354
XMax: 603820.07392
YMax: 5325378.49368
Spatial Reference: 32610
(32610)
LatestVCSWkid(0)
Pixel Size X: 0.009339999999999571
Pixel Size Y: 0.009340000000003958
Band Count: 4
Pixel Type: U8
RasterFunction Infos: {"rasterFunctionInfos": [{
"name": "None",
"description": "",
"help": ""
}]}
Mensuration Capabilities: Basic
Inspection Capabilities:
Has Histograms: true
Has Colormap: false
Has Multi Dimensions : false
Rendering Rule:
Min Scale: 0
Max Scale: 0
Copyright Text:
Service Data Type: esriImageServiceDataTypeGeneric
Min Values: 0, 0, 0, 0
Max Values: 255, 255, 255, 255
Mean Values: 38.451721229832, 40.751925012761, 33.764556097592, 112.8000626654
Standard Deviation Values: 51.480443703214, 54.243849449615, 47.38297192201, 126.64976066565
Object ID Field:
Fields:
None
Default Mosaic Method: Center
Allowed Mosaic Methods:
SortField:
SortValue: null
Mosaic Operator: First
Default Compression Quality: 75
Default Resampling Method: Bilinear
Max Record Count: null
Max Image Height: 4100
Max Image Width: 15000
Max Download Image Count: null
Max Mosaic Image Count: null
Allow Raster Function: true
Allow Copy: true
Allow Analysis: true
Allow Compute TiePoints: false
Supports Statistics: false
Supports Advanced Queries: false
Use StandardizedQueries: true
Raster Type Infos:
Name: Raster Dataset
Description: Supports all ArcGIS Raster Datasets
Help:
Has Raster Attribute Table: false
Edit Fields Info: null
Ownership Based AccessControl For Rasters: null
Child Resources:
Info
Histograms
Statistics
Key Properties
Legend
Raster Function Infos
Supported Operations:
Export Image
Identify
Measure
Compute Histograms
Compute Statistics Histograms
Get Samples
Compute Class Statistics
Query Boundary
Compute Pixel Location
Compute Angles
Validate
Project