View In:
ArcGIS JavaScript
ArcGIS Online Map Viewer
ArcGIS Earth
Service Description: DEM_UAS/MartenCreekLowElev_03NOV2023
Name: DEM_UAS/MartenCreekLowElev_03NOV2023
Description:
Single Fused Map Cache: false
Extent:
XMin: 603694.1736300001
YMin: 5325018.07232
XMax: 603848.72059
YMax: 5325243.5184
Spatial Reference: 32610
(32610)
LatestVCSWkid(0)
Initial Extent:
XMin: 603694.1736300001
YMin: 5325018.07232
XMax: 603848.72059
YMax: 5325243.5184
Spatial Reference: 32610
(32610)
LatestVCSWkid(0)
Full Extent:
XMin: 603694.1736300001
YMin: 5325018.07232
XMax: 603848.72059
YMax: 5325243.5184
Spatial Reference: 32610
(32610)
LatestVCSWkid(0)
Pixel Size X: 0.004719999999998435
Pixel Size Y: 0.004720000000002927
Band Count: 4
Pixel Type: U8
RasterFunction Infos: {"rasterFunctionInfos": [{
"name": "None",
"description": "",
"help": ""
}]}
Mensuration Capabilities: Basic
Inspection Capabilities:
Has Histograms: true
Has Colormap: false
Has Multi Dimensions : false
Rendering Rule:
Min Scale: 0
Max Scale: 0
Copyright Text:
Service Data Type: esriImageServiceDataTypeGeneric
Min Values: 0, 0, 0, 0
Max Values: 255, 255, 255, 255
Mean Values: 42.193419326553, 43.146668825548, 40.328328437298, 109.36747800894
Standard Deviation Values: 54.723397953903, 56.216443223077, 53.901807461293, 126.20404770219
Object ID Field:
Fields:
None
Default Mosaic Method: Center
Allowed Mosaic Methods:
SortField:
SortValue: null
Mosaic Operator: First
Default Compression Quality: 75
Default Resampling Method: Bilinear
Max Record Count: null
Max Image Height: 4100
Max Image Width: 15000
Max Download Image Count: null
Max Mosaic Image Count: null
Allow Raster Function: true
Allow Copy: true
Allow Analysis: true
Allow Compute TiePoints: false
Supports Statistics: false
Supports Advanced Queries: false
Use StandardizedQueries: true
Raster Type Infos:
Name: Raster Dataset
Description: Supports all ArcGIS Raster Datasets
Help:
Has Raster Attribute Table: false
Edit Fields Info: null
Ownership Based AccessControl For Rasters: null
Child Resources:
Info
Histograms
Statistics
Key Properties
Legend
Raster Function Infos
Supported Operations:
Export Image
Identify
Measure
Compute Histograms
Compute Statistics Histograms
Get Samples
Compute Class Statistics
Query Boundary
Compute Pixel Location
Compute Angles
Validate
Project