View In:
ArcGIS JavaScript
ArcGIS Online Map Viewer
ArcGIS Earth
Service Description: DEM_UAS/MidpointRemediation_tif
Name: DEM_UAS/MidpointRemediation_tif
Description:
Single Fused Map Cache: false
Extent:
XMin: 602592.7126900001
YMin: 5324645.528510001
XMax: 602944.1274100001
YMax: 5324854.05195
Spatial Reference: 32610
(32610)
LatestVCSWkid(0)
Initial Extent:
XMin: 602592.7126900001
YMin: 5324645.528510001
XMax: 602944.1274100001
YMax: 5324854.05195
Spatial Reference: 32610
(32610)
LatestVCSWkid(0)
Full Extent:
XMin: 602592.7126900001
YMin: 5324645.528510001
XMax: 602944.1274100001
YMax: 5324854.05195
Spatial Reference: 32610
(32610)
LatestVCSWkid(0)
Pixel Size X: 0.0071200000000000135
Pixel Size Y: 0.007119999999988725
Band Count: 4
Pixel Type: U8
RasterFunction Infos: {"rasterFunctionInfos": [{
"name": "None",
"description": "",
"help": ""
}]}
Mensuration Capabilities: Basic
Inspection Capabilities:
Has Histograms: true
Has Colormap: false
Has Multi Dimensions : false
Rendering Rule:
Min Scale: 0
Max Scale: 0
Copyright Text:
Service Data Type: esriImageServiceDataTypeGeneric
Min Values: 1, 1, 1, 255
Max Values: 255, 255, 255, 255
Mean Values: 93.325772937548, 94.921904214011, 83.324488685793, 255
Standard Deviation Values: 39.48392761294, 39.773312484436, 41.390415487956, 0
Object ID Field:
Fields:
None
Default Mosaic Method: Center
Allowed Mosaic Methods:
SortField:
SortValue: null
Mosaic Operator: First
Default Compression Quality: 75
Default Resampling Method: Bilinear
Max Record Count: null
Max Image Height: 4100
Max Image Width: 15000
Max Download Image Count: null
Max Mosaic Image Count: null
Allow Raster Function: true
Allow Copy: true
Allow Analysis: true
Allow Compute TiePoints: false
Supports Statistics: false
Supports Advanced Queries: false
Use StandardizedQueries: true
Raster Type Infos:
Name: Raster Dataset
Description: Supports all ArcGIS Raster Datasets
Help:
Has Raster Attribute Table: false
Edit Fields Info: null
Ownership Based AccessControl For Rasters: null
Child Resources:
Info
Histograms
Statistics
Key Properties
Legend
Raster Function Infos
Supported Operations:
Export Image
Identify
Measure
Compute Histograms
Compute Statistics Histograms
Get Samples
Compute Class Statistics
Query Boundary
Compute Pixel Location
Compute Angles
Validate
Project