View In:
ArcGIS JavaScript
ArcGIS Online Map Viewer
ArcGIS Earth
Service Description: DEM_UAS/OsoMemorial_Imagery
Name: DEM_UAS/OsoMemorial_Imagery
Description:
Single Fused Map Cache: false
Extent:
XMin: 585668.77263
YMin: 5347602.813990001
XMax: 586121.35591
YMax: 5347894.186670001
Spatial Reference: 32610
(32610)
LatestVCSWkid(0)
Initial Extent:
XMin: 585668.77263
YMin: 5347602.813990001
XMax: 586121.35591
YMax: 5347894.186670001
Spatial Reference: 32610
(32610)
LatestVCSWkid(0)
Full Extent:
XMin: 585668.77263
YMin: 5347602.813990001
XMax: 586121.35591
YMax: 5347894.186670001
Spatial Reference: 32610
(32610)
LatestVCSWkid(0)
Pixel Size X: 0.007460000000000342
Pixel Size Y: 0.007460000000000755
Band Count: 4
Pixel Type: U8
RasterFunction Infos: {"rasterFunctionInfos": [{
"name": "None",
"description": "",
"help": ""
}]}
Mensuration Capabilities: Basic
Inspection Capabilities:
Has Histograms: true
Has Colormap: false
Has Multi Dimensions : false
Rendering Rule:
Min Scale: 0
Max Scale: 0
Copyright Text:
Service Data Type: esriImageServiceDataTypeGeneric
Min Values: 0, 0, 0, 0
Max Values: 255, 255, 255, 255
Mean Values: 51.157968373817, 50.742002080511, 47.448391189656, 144.60118468801
Standard Deviation Values: 62.98499900747, 61.461849166723, 57.084368806222, 126.34793029166
Object ID Field:
Fields:
None
Default Mosaic Method: Center
Allowed Mosaic Methods:
SortField:
SortValue: null
Mosaic Operator: First
Default Compression Quality: 75
Default Resampling Method: Bilinear
Max Record Count: null
Max Image Height: 4100
Max Image Width: 15000
Max Download Image Count: null
Max Mosaic Image Count: null
Allow Raster Function: true
Allow Copy: true
Allow Analysis: true
Allow Compute TiePoints: false
Supports Statistics: false
Supports Advanced Queries: false
Use StandardizedQueries: true
Raster Type Infos:
Name: Raster Dataset
Description: Supports all ArcGIS Raster Datasets
Help:
Has Raster Attribute Table: false
Edit Fields Info: null
Ownership Based AccessControl For Rasters: null
Child Resources:
Info
Histograms
Statistics
Key Properties
Legend
Raster Function Infos
Supported Operations:
Export Image
Identify
Measure
Compute Histograms
Compute Statistics Histograms
Get Samples
Compute Class Statistics
Query Boundary
Compute Pixel Location
Compute Angles
Validate
Project