View In:
ArcGIS JavaScript
ArcGIS Online Map Viewer
ArcGIS Earth
Service Description: DEM_UAS/Snoco_2023_Wildfire_Risk_Raster
Name: DEM_UAS/Snoco_2023_Wildfire_Risk_Raster
Description:
Single Fused Map Cache: false
Extent:
XMin: -1.366483490710185E7
YMin: 6016872.1399572985
XMax: -1.3438861038669612E7
YMax: 6260071.6970219705
Spatial Reference: 102100
(3857)
LatestVCSWkid(0)
Initial Extent:
XMin: -1.366483490710185E7
YMin: 6016872.1399572985
XMax: -1.3438861038669612E7
YMax: 6260071.6970219705
Spatial Reference: 102100
(3857)
LatestVCSWkid(0)
Full Extent:
XMin: -1.366483490710185E7
YMin: 6016872.1399572985
XMax: -1.3438861038669612E7
YMax: 6260071.6970219705
Spatial Reference: 102100
(3857)
LatestVCSWkid(0)
Pixel Size X: 15.100158264766911
Pixel Size Y: 15.171525705843543
Band Count: 1
Pixel Type: U8
RasterFunction Infos: {"rasterFunctionInfos": [{
"name": "None",
"description": "",
"help": ""
}]}
Mensuration Capabilities: Basic
Inspection Capabilities:
Has Histograms: true
Has Colormap: false
Has Multi Dimensions : false
Rendering Rule:
Min Scale: 0
Max Scale: 0
Copyright Text:
Service Data Type: esriImageServiceDataTypeGeneric
Min Values: 0
Max Values: 58
Mean Values: 20.24887538593542
Standard Deviation Values: 17.072431535231935
Object ID Field:
Fields:
None
Default Mosaic Method: Center
Allowed Mosaic Methods:
SortField:
SortValue: null
Mosaic Operator: First
Default Compression Quality: 75
Default Resampling Method: Bilinear
Max Record Count: null
Max Image Height: 4100
Max Image Width: 15000
Max Download Image Count: null
Max Mosaic Image Count: null
Allow Raster Function: true
Allow Copy: true
Allow Analysis: true
Allow Compute TiePoints: false
Supports Statistics: false
Supports Advanced Queries: false
Use StandardizedQueries: true
Raster Type Infos:
Name: Raster Dataset
Description: Supports all ArcGIS Raster Datasets
Help:
Has Raster Attribute Table: false
Edit Fields Info: null
Ownership Based AccessControl For Rasters: null
Child Resources:
Info
Histograms
Statistics
Key Properties
Legend
Raster Function Infos
Supported Operations:
Export Image
Identify
Measure
Compute Histograms
Compute Statistics Histograms
Get Samples
Compute Class Statistics
Query Boundary
Compute Pixel Location
Compute Angles
Validate
Project