View In:
ArcGIS JavaScript
ArcGIS Online Map Viewer
ArcGIS Earth
Service Description: Imagery/Aerial_2013
Name: Imagery/Aerial_2013
Description:
Single Fused Map Cache: false
Extent:
XMin: 1243249.9218398237
YMin: 265944.8051808466
XMax: 1633210.1404798646
YMax: 490155.1130748239
Spatial Reference: 102748
(2285)
LatestVCSWkid(0)
Initial Extent:
XMin: 1243249.9218398237
YMin: 265944.8051808466
XMax: 1633210.1404798646
YMax: 490155.1130748239
Spatial Reference: 102748
(2285)
LatestVCSWkid(0)
Full Extent:
XMin: 1243249.9218398237
YMin: 265944.8051808466
XMax: 1633210.1404798646
YMax: 490155.1130748239
Spatial Reference: 102748
(2285)
LatestVCSWkid(0)
Pixel Size X: 3.281526643161029
Pixel Size Y: 3.2815266431610293
Band Count: 3
Pixel Type: U8
RasterFunction Infos: {"rasterFunctionInfos": [{
"name": "None",
"description": "",
"help": ""
}]}
Mensuration Capabilities: Basic
Inspection Capabilities:
Has Histograms: true
Has Colormap: false
Has Multi Dimensions : false
Rendering Rule:
Min Scale: 0
Max Scale: 0
Copyright Text:
Service Data Type: esriImageServiceDataTypeRGB
Min Values: 0, 0, 0
Max Values: 255, 255, 255
Mean Values: 58.119147850491, 75.727005995663, 70.598928434749
Standard Deviation Values: 40.112233659861, 44.063444779271, 39.550779964694
Object ID Field:
Fields:
None
Default Mosaic Method: Center
Allowed Mosaic Methods:
SortField:
SortValue: null
Mosaic Operator: First
Default Compression Quality: 75
Default Resampling Method: Bilinear
Max Record Count: null
Max Image Height: 4100
Max Image Width: 15000
Max Download Image Count: null
Max Mosaic Image Count: null
Allow Raster Function: true
Allow Copy: true
Allow Analysis: true
Allow Compute TiePoints: false
Supports Statistics: false
Supports Advanced Queries: false
Use StandardizedQueries: true
Raster Type Infos:
Name: Raster Dataset
Description: Supports all ArcGIS Raster Datasets
Help:
Has Raster Attribute Table: false
Edit Fields Info: null
Ownership Based AccessControl For Rasters: null
Child Resources:
Info
Histograms
Statistics
Key Properties
Legend
Raster Function Infos
Supported Operations:
Export Image
Identify
Measure
Compute Histograms
Compute Statistics Histograms
Get Samples
Compute Class Statistics
Query Boundary
Compute Pixel Location
Compute Angles
Validate
Project