View In:
ArcGIS JavaScript
ArcGIS Online Map Viewer
ArcGIS Earth
Service Description: Rivers/Aerial_Sauk_Lower_1944
Name: Rivers/Aerial_Sauk_Lower_1944
Description:
Single Fused Map Cache: false
Extent:
XMin: 1813703.3639439186
YMin: 482944.0986259348
XMax: 1841767.6683399186
YMax: 517026.5158539348
Spatial Reference: 32048
(32048)
LatestVCSWkid(0)
Initial Extent:
XMin: 1813703.3639439186
YMin: 482944.0986259348
XMax: 1841767.6683399186
YMax: 517026.5158539348
Spatial Reference: 32048
(32048)
LatestVCSWkid(0)
Full Extent:
XMin: 1813703.3639439186
YMin: 482944.0986259348
XMax: 1841767.6683399186
YMax: 517026.5158539348
Spatial Reference: 32048
(32048)
LatestVCSWkid(0)
Pixel Size X: 3.0333229999999993
Pixel Size Y: 3.0333230000000007
Band Count: 3
Pixel Type: U8
RasterFunction Infos: {"rasterFunctionInfos": [{
"name": "None",
"description": "",
"help": ""
}]}
Mensuration Capabilities: Basic
Inspection Capabilities:
Has Histograms: true
Has Colormap: false
Has Multi Dimensions : false
Rendering Rule:
Min Scale: 0
Max Scale: 0
Copyright Text:
Service Data Type: esriImageServiceDataTypeRGB
Min Values: 0, 0, 0
Max Values: 255, 255, 255
Mean Values: 206.78035491905, 203.86815068493, 197.61176836862
Standard Deviation Values: 55.334437009666, 58.293196164909, 64.646235018779
Object ID Field:
Fields:
None
Default Mosaic Method: Center
Allowed Mosaic Methods:
SortField:
SortValue: null
Mosaic Operator: First
Default Compression Quality: 75
Default Resampling Method: Bilinear
Max Record Count: null
Max Image Height: 4100
Max Image Width: 15000
Max Download Image Count: null
Max Mosaic Image Count: null
Allow Raster Function: true
Allow Copy: true
Allow Analysis: true
Allow Compute TiePoints: false
Supports Statistics: false
Supports Advanced Queries: false
Use StandardizedQueries: true
Raster Type Infos:
Name: Raster Dataset
Description: Supports all ArcGIS Raster Datasets
Help:
Has Raster Attribute Table: false
Edit Fields Info: null
Ownership Based AccessControl For Rasters: null
Child Resources:
Info
Histograms
Statistics
Key Properties
Legend
Raster Function Infos
Supported Operations:
Export Image
Identify
Measure
Compute Histograms
Compute Statistics Histograms
Get Samples
Compute Class Statistics
Query Boundary
Compute Pixel Location
Compute Angles
Validate
Project