View In:
ArcGIS JavaScript
ArcGIS Online Map Viewer
ArcGIS Earth
Service Description: Rivers/Aerial_Sauk_Upper_1964
Name: Rivers/Aerial_Sauk_Upper_1964
Description:
Single Fused Map Cache: false
Extent:
XMin: 1811579.1344007764
YMin: 439901.2747980754
XMax: 1836655.6768297763
YMax: 493438.9913650751
Spatial Reference: 32048
(32048)
LatestVCSWkid(0)
Initial Extent:
XMin: 1811579.1344007764
YMin: 439901.2747980754
XMax: 1836655.6768297763
YMax: 493438.9913650751
Spatial Reference: 32048
(32048)
LatestVCSWkid(0)
Full Extent:
XMin: 1811579.1344007764
YMin: 439901.2747980754
XMax: 1836655.6768297763
YMax: 493438.9913650751
Spatial Reference: 32048
(32048)
LatestVCSWkid(0)
Pixel Size X: 1.5764469999999942
Pixel Size Y: 1.5764469999999922
Band Count: 3
Pixel Type: U8
RasterFunction Infos: {"rasterFunctionInfos": [{
"name": "None",
"description": "",
"help": ""
}]}
Mensuration Capabilities: Basic
Inspection Capabilities:
Has Histograms: true
Has Colormap: false
Has Multi Dimensions : false
Rendering Rule:
Min Scale: 0
Max Scale: 0
Copyright Text:
Service Data Type: esriImageServiceDataTypeRGB
Min Values: 0, 0, 0
Max Values: 255, 255, 255
Mean Values: 164.28440147989, 164.90726817043, 164.96837331424
Standard Deviation Values: 90.766520901366, 90.196313554382, 90.02459956006
Object ID Field:
Fields:
None
Default Mosaic Method: Center
Allowed Mosaic Methods:
SortField:
SortValue: null
Mosaic Operator: First
Default Compression Quality: 75
Default Resampling Method: Bilinear
Max Record Count: null
Max Image Height: 4100
Max Image Width: 15000
Max Download Image Count: null
Max Mosaic Image Count: null
Allow Raster Function: true
Allow Copy: true
Allow Analysis: true
Allow Compute TiePoints: false
Supports Statistics: false
Supports Advanced Queries: false
Use StandardizedQueries: true
Raster Type Infos:
Name: Raster Dataset
Description: Supports all ArcGIS Raster Datasets
Help:
Has Raster Attribute Table: false
Edit Fields Info: null
Ownership Based AccessControl For Rasters: null
Child Resources:
Info
Histograms
Statistics
Key Properties
Legend
Raster Function Infos
Supported Operations:
Export Image
Identify
Measure
Compute Histograms
Compute Statistics Histograms
Get Samples
Compute Class Statistics
Query Boundary
Compute Pixel Location
Compute Angles
Validate
Project