View In:
ArcGIS JavaScript
ArcGIS Online Map Viewer
ArcGIS Earth
Service Description: Rivers/Aerial_Skagit_2004
Name: Rivers/Aerial_Skagit_2004
Description:
Single Fused Map Cache: false
Extent:
XMin: 1156936.0912887766
YMin: 451627.4443217628
XMax: 1513890.757955443
YMax: 624068.0443217627
Spatial Reference: 0
(0)
LatestVCSWkid(0)
Initial Extent:
XMin: 1156936.0912887766
YMin: 451627.4443217628
XMax: 1513890.757955443
YMax: 624068.0443217627
Spatial Reference: 0
(0)
LatestVCSWkid(0)
Full Extent:
XMin: 1156936.0912887766
YMin: 451627.4443217628
XMax: 1513890.757955443
YMax: 624068.0443217627
Spatial Reference: 0
(0)
LatestVCSWkid(0)
Pixel Size X: 6.561666666666664
Pixel Size Y: 6.561666666666664
Band Count: 3
Pixel Type: U8
RasterFunction Infos: {"rasterFunctionInfos": [{
"name": "None",
"description": "",
"help": ""
}]}
Mensuration Capabilities: Basic
Inspection Capabilities:
Has Histograms: true
Has Colormap: false
Has Multi Dimensions : false
Rendering Rule:
Min Scale: 0
Max Scale: 0
Copyright Text:
Service Data Type: esriImageServiceDataTypeRGB
Min Values: 0, 0, 0
Max Values: 255, 255, 255
Mean Values: 97.178289000719, 104.01276060388, 93.150970524802
Standard Deviation Values: 61.532856590662, 62.530346470257, 60.759959502825
Object ID Field:
Fields:
None
Default Mosaic Method: Center
Allowed Mosaic Methods:
SortField:
SortValue: null
Mosaic Operator: First
Default Compression Quality: 75
Default Resampling Method: Bilinear
Max Record Count: null
Max Image Height: 4100
Max Image Width: 15000
Max Download Image Count: null
Max Mosaic Image Count: null
Allow Raster Function: true
Allow Copy: true
Allow Analysis: true
Allow Compute TiePoints: false
Supports Statistics: false
Supports Advanced Queries: false
Use StandardizedQueries: true
Raster Type Infos:
Name: Raster Dataset
Description: Supports all ArcGIS Raster Datasets
Help:
Has Raster Attribute Table: false
Edit Fields Info: null
Ownership Based AccessControl For Rasters: null
Child Resources:
Info
Histograms
Statistics
Key Properties
Legend
Raster Function Infos
Supported Operations:
Export Image
Identify
Measure
Compute Histograms
Compute Statistics Histograms
Get Samples
Compute Class Statistics
Query Boundary
Compute Pixel Location
Compute Angles
Validate
Project