View In:
ArcGIS JavaScript
ArcGIS Online Map Viewer
ArcGIS Earth
Service Description: Rivers/Aerial_Snohomish_Snoqualmie_1947
Name: Rivers/Aerial_Snohomish_Snoqualmie_1947
Description:
Single Fused Map Cache: false
Extent:
XMin: 1308795.7060227662
YMin: 284381.7828901313
XMax: 1367437.9317127662
YMax: 349648.5461871312
Spatial Reference: 0
(0)
LatestVCSWkid(0)
Initial Extent:
XMin: 1308795.7060227662
YMin: 284381.7828901313
XMax: 1367437.9317127662
YMax: 349648.5461871312
Spatial Reference: 0
(0)
LatestVCSWkid(0)
Full Extent:
XMin: 1308795.7060227662
YMin: 284381.7828901313
XMax: 1367437.9317127662
YMax: 349648.5461871312
Spatial Reference: 0
(0)
LatestVCSWkid(0)
Pixel Size X: 1.0648669999999998
Pixel Size Y: 1.0648669999999985
Band Count: 1
Pixel Type: U8
RasterFunction Infos: {"rasterFunctionInfos": [{
"name": "None",
"description": "",
"help": ""
}]}
Mensuration Capabilities: Basic
Inspection Capabilities:
Has Histograms: true
Has Colormap: false
Has Multi Dimensions : false
Rendering Rule:
Min Scale: 0
Max Scale: 0
Copyright Text:
Service Data Type: esriImageServiceDataTypeGeneric
Min Values: 0
Max Values: 203
Mean Values: 20.865740740741
Standard Deviation Values: 43.328442021743
Object ID Field:
Fields:
None
Default Mosaic Method: Center
Allowed Mosaic Methods:
SortField:
SortValue: null
Mosaic Operator: First
Default Compression Quality: 75
Default Resampling Method: Bilinear
Max Record Count: null
Max Image Height: 4100
Max Image Width: 15000
Max Download Image Count: null
Max Mosaic Image Count: null
Allow Raster Function: true
Allow Copy: true
Allow Analysis: true
Allow Compute TiePoints: false
Supports Statistics: false
Supports Advanced Queries: false
Use StandardizedQueries: true
Raster Type Infos:
Name: Raster Dataset
Description: Supports all ArcGIS Raster Datasets
Help:
Has Raster Attribute Table: false
Edit Fields Info: null
Ownership Based AccessControl For Rasters: null
Child Resources:
Info
Histograms
Statistics
Key Properties
Legend
Raster Function Infos
Supported Operations:
Export Image
Identify
Measure
Compute Histograms
Compute Statistics Histograms
Get Samples
Compute Class Statistics
Query Boundary
Compute Pixel Location
Compute Angles
Validate
Project