View In:
ArcGIS JavaScript
ArcGIS Online Map Viewer
ArcGIS Earth
Service Description: Rivers/Aerial_Snohomish_Snoqualmie_1974
Name: Rivers/Aerial_Snohomish_Snoqualmie_1974
Description:
Single Fused Map Cache: false
Extent:
XMin: 1307646.7040120873
YMin: 284446.86243562785
XMax: 1362594.2295280874
YMax: 349742.5476826279
Spatial Reference: 0
(0)
LatestVCSWkid(0)
Initial Extent:
XMin: 1307646.7040120873
YMin: 284446.86243562785
XMax: 1362594.2295280874
YMax: 349742.5476826279
Spatial Reference: 0
(0)
LatestVCSWkid(0)
Full Extent:
XMin: 1307646.7040120873
YMin: 284446.86243562785
XMax: 1362594.2295280874
YMax: 349742.5476826279
Spatial Reference: 0
(0)
LatestVCSWkid(0)
Pixel Size X: 1.064297000000002
Pixel Size Y: 1.0642970000000012
Band Count: 1
Pixel Type: U8
RasterFunction Infos: {"rasterFunctionInfos": [{
"name": "None",
"description": "",
"help": ""
}]}
Mensuration Capabilities: Basic
Inspection Capabilities:
Has Histograms: true
Has Colormap: false
Has Multi Dimensions : false
Rendering Rule:
Min Scale: 0
Max Scale: 0
Copyright Text:
Service Data Type: esriImageServiceDataTypeGeneric
Min Values: 0
Max Values: 226
Mean Values: 21.431699346405
Standard Deviation Values: 44.564753229941
Object ID Field:
Fields:
None
Default Mosaic Method: Center
Allowed Mosaic Methods:
SortField:
SortValue: null
Mosaic Operator: First
Default Compression Quality: 75
Default Resampling Method: Bilinear
Max Record Count: null
Max Image Height: 4100
Max Image Width: 15000
Max Download Image Count: null
Max Mosaic Image Count: null
Allow Raster Function: true
Allow Copy: true
Allow Analysis: true
Allow Compute TiePoints: false
Supports Statistics: false
Supports Advanced Queries: false
Use StandardizedQueries: true
Raster Type Infos:
Name: Raster Dataset
Description: Supports all ArcGIS Raster Datasets
Help:
Has Raster Attribute Table: false
Edit Fields Info: null
Ownership Based AccessControl For Rasters: null
Child Resources:
Info
Histograms
Statistics
Key Properties
Legend
Raster Function Infos
Supported Operations:
Export Image
Identify
Measure
Compute Histograms
Compute Statistics Histograms
Get Samples
Compute Class Statistics
Query Boundary
Compute Pixel Location
Compute Angles
Validate
Project