View In:
ArcGIS JavaScript
ArcGIS Online Map Viewer
ArcGIS Earth
Service Description: Rivers/Aerial_Stillaguamish_1974
Name: Rivers/Aerial_Stillaguamish_1974
Description:
Single Fused Map Cache: false
Extent:
XMin: 1254611.1514242415
YMin: 395898.6268556457
XMax: 1438473.1514242415
YMax: 475635.6268556457
Spatial Reference: 32148
(32148)
LatestVCSWkid(0)
Initial Extent:
XMin: 1254611.1514242415
YMin: 395898.6268556457
XMax: 1438473.1514242415
YMax: 475635.6268556457
Spatial Reference: 32148
(32148)
LatestVCSWkid(0)
Full Extent:
XMin: 1254611.1514242415
YMin: 395898.6268556457
XMax: 1438473.1514242415
YMax: 475635.6268556457
Spatial Reference: 32148
(32148)
LatestVCSWkid(0)
Pixel Size X: 1.0
Pixel Size Y: 1.0
Band Count: 1
Pixel Type: U8
RasterFunction Infos: {"rasterFunctionInfos": [{
"name": "None",
"description": "",
"help": ""
}]}
Mensuration Capabilities: Basic
Inspection Capabilities:
Has Histograms: true
Has Colormap: false
Has Multi Dimensions : false
Rendering Rule:
Min Scale: 0
Max Scale: 0
Copyright Text:
Service Data Type: esriImageServiceDataTypeGeneric
Min Values: 0
Max Values: 177
Mean Values: 9.9709401709402
Standard Deviation Values: 25.455827535681
Object ID Field:
Fields:
None
Default Mosaic Method: Center
Allowed Mosaic Methods:
SortField:
SortValue: null
Mosaic Operator: First
Default Compression Quality: 75
Default Resampling Method: Bilinear
Max Record Count: null
Max Image Height: 4100
Max Image Width: 15000
Max Download Image Count: null
Max Mosaic Image Count: null
Allow Raster Function: true
Allow Copy: true
Allow Analysis: true
Allow Compute TiePoints: false
Supports Statistics: false
Supports Advanced Queries: false
Use StandardizedQueries: true
Raster Type Infos:
Name: Raster Dataset
Description: Supports all ArcGIS Raster Datasets
Help:
Has Raster Attribute Table: false
Edit Fields Info: null
Ownership Based AccessControl For Rasters: null
Child Resources:
Info
Histograms
Statistics
Key Properties
Legend
Raster Function Infos
Supported Operations:
Export Image
Identify
Measure
Compute Histograms
Compute Statistics Histograms
Get Samples
Compute Class Statistics
Query Boundary
Compute Pixel Location
Compute Angles
Validate
Project