View In:
ArcGIS JavaScript
ArcGIS Online Map Viewer
ArcGIS Earth
Service Description: Rivers/Aerial_Stillaguamish_1991
Name: Rivers/Aerial_Stillaguamish_1991
Description:
Single Fused Map Cache: false
Extent:
XMin: 1266535.4104341343
YMin: 411077.7391603319
XMax: 1367265.640495164
YMax: 478312.67675241025
Spatial Reference: 0
(0)
LatestVCSWkid(0)
Initial Extent:
XMin: 1266535.4104341343
YMin: 411077.7391603319
XMax: 1367265.640495164
YMax: 478312.67675241025
Spatial Reference: 0
(0)
LatestVCSWkid(0)
Full Extent:
XMin: 1266535.4104341343
YMin: 411077.7391603319
XMax: 1367265.640495164
YMax: 478312.67675241025
Spatial Reference: 0
(0)
LatestVCSWkid(0)
Pixel Size X: 2.372355865780259
Pixel Size Y: 2.37235586578026
Band Count: 1
Pixel Type: U8
RasterFunction Infos: {"rasterFunctionInfos": [{
"name": "None",
"description": "",
"help": ""
}]}
Mensuration Capabilities: Basic
Inspection Capabilities:
Has Histograms: true
Has Colormap: false
Has Multi Dimensions : false
Rendering Rule:
Min Scale: 0
Max Scale: 0
Copyright Text:
Service Data Type: esriImageServiceDataTypeGeneric
Min Values: 0
Max Values: 255
Mean Values: 95.1842706214836
Standard Deviation Values: 51.325884673634995
Object ID Field:
Fields:
None
Default Mosaic Method: Center
Allowed Mosaic Methods:
SortField:
SortValue: null
Mosaic Operator: First
Default Compression Quality: 75
Default Resampling Method: Bilinear
Max Record Count: null
Max Image Height: 4100
Max Image Width: 15000
Max Download Image Count: null
Max Mosaic Image Count: null
Allow Raster Function: true
Allow Copy: true
Allow Analysis: true
Allow Compute TiePoints: false
Supports Statistics: false
Supports Advanced Queries: false
Use StandardizedQueries: true
Raster Type Infos:
Name: Raster Dataset
Description: Supports all ArcGIS Raster Datasets
Help:
Has Raster Attribute Table: false
Edit Fields Info: null
Ownership Based AccessControl For Rasters: null
Child Resources:
Info
Histograms
Statistics
Key Properties
Legend
Raster Function Infos
Supported Operations:
Export Image
Identify
Measure
Compute Histograms
Compute Statistics Histograms
Get Samples
Compute Class Statistics
Query Boundary
Compute Pixel Location
Compute Angles
Validate
Project