View In:
ArcGIS JavaScript
ArcGIS Online Map Viewer
ArcGIS Earth
Service Description: Survey/Survey_1917_1956
Name: Survey/Survey_1917_1956
Description:
Single Fused Map Cache: false
Extent:
XMin: 1233357.9316112064
YMin: 283206.44450026954
XMax: 1523087.0571020204
YMax: 479288.23058508715
Spatial Reference: 102748
(2285)
LatestVCSWkid(0)
Initial Extent:
XMin: 1233357.9316112064
YMin: 283206.44450026954
XMax: 1523087.0571020204
YMax: 479288.23058508715
Spatial Reference: 102748
(2285)
LatestVCSWkid(0)
Full Extent:
XMin: 1233357.9316112064
YMin: 283206.44450026954
XMax: 1523087.0571020204
YMax: 479288.23058508715
Spatial Reference: 102748
(2285)
LatestVCSWkid(0)
Pixel Size X: 4.556062484130299
Pixel Size Y: 4.436641010155164
Band Count: 3
Pixel Type: U8
RasterFunction Infos: {"rasterFunctionInfos": [{
"name": "None",
"description": "",
"help": ""
}]}
Mensuration Capabilities: Basic
Inspection Capabilities:
Has Histograms: true
Has Colormap: false
Has Multi Dimensions : false
Rendering Rule:
Min Scale: 0
Max Scale: 0
Resampling: false
Copyright Text:
Service Data Type: esriImageServiceDataTypeRGB
Min Values: 0, 0, 0
Max Values: 252, 250, 228
Mean Values: 166.55462454649, 146.48291519338, 111.16785513092
Standard Deviation Values: 86.226722664137, 76.779350124146, 59.343483714055
Object ID Field:
Fields:
None
Default Mosaic Method: Center
Allowed Mosaic Methods:
SortField:
SortValue: null
Mosaic Operator: First
Default Compression Quality: 75
Default Resampling Method: Bilinear
Max Record Count: null
Max Image Height: 4100
Max Image Width: 15000
Max Download Image Count: null
Max Mosaic Image Count: null
Allow Raster Function: true
Allow Copy: true
Allow Analysis: true
Allow Compute TiePoints: false
Supports Statistics: false
Supports Advanced Queries: false
Use StandardizedQueries: true
Raster Type Infos:
Name: Raster Dataset
Description: Supports all ArcGIS Raster Datasets
Help:
Has Raster Attribute Table: false
Edit Fields Info: null
Ownership Based AccessControl For Rasters: null
Child Resources:
Info
Histograms
Statistics
Key Properties
Legend
Raster Function Infos
Supported Operations:
Export Image
Identify
Measure
Compute Histograms
Compute Statistics Histograms
Get Samples
Compute Class Statistics
Query Boundary
Compute Pixel Location
Compute Angles
Validate
Project