View In:
ArcGIS JavaScript
ArcGIS Online Map Viewer
ArcGIS Earth
Service Description: Survey/Survey_1947_Present
Name: Survey/Survey_1947_Present
Description:
Single Fused Map Cache: false
Extent:
XMin: 1233870.016306775
YMin: 283246.6397378358
XMax: 1523069.0166110524
YMax: 479858.2862945232
Spatial Reference: 102748
(2285)
LatestVCSWkid(0)
Initial Extent:
XMin: 1233870.016306775
YMin: 283246.6397378358
XMax: 1523069.0166110524
YMax: 479858.2862945232
Spatial Reference: 102748
(2285)
LatestVCSWkid(0)
Full Extent:
XMin: 1233870.016306775
YMin: 283246.6397378358
XMax: 1523069.0166110524
YMax: 479858.2862945232
Spatial Reference: 102748
(2285)
LatestVCSWkid(0)
Pixel Size X: 3.3572747043135966
Pixel Size Y: 3.273914253116985
Band Count: 3
Pixel Type: U8
RasterFunction Infos: {"rasterFunctionInfos": [{
"name": "None",
"description": "",
"help": ""
}]}
Mensuration Capabilities: Basic
Inspection Capabilities:
Has Histograms: true
Has Colormap: false
Has Multi Dimensions : false
Rendering Rule:
Min Scale: 0
Max Scale: 0
Resampling: false
Copyright Text:
Service Data Type: esriImageServiceDataTypeRGB
Min Values: 0, 0, 0
Max Values: 255, 255, 255
Mean Values: 173.74151849221, 154.43355611278, 131.70988003874
Standard Deviation Values: 89.781551062886, 79.884074431806, 69.332155443997
Object ID Field:
Fields:
None
Default Mosaic Method: Center
Allowed Mosaic Methods:
SortField:
SortValue: null
Mosaic Operator: First
Default Compression Quality: 75
Default Resampling Method: Bilinear
Max Record Count: null
Max Image Height: 4100
Max Image Width: 15000
Max Download Image Count: null
Max Mosaic Image Count: null
Allow Raster Function: true
Allow Copy: true
Allow Analysis: true
Allow Compute TiePoints: false
Supports Statistics: false
Supports Advanced Queries: false
Use StandardizedQueries: true
Raster Type Infos:
Name: Raster Dataset
Description: Supports all ArcGIS Raster Datasets
Help:
Has Raster Attribute Table: false
Edit Fields Info: null
Ownership Based AccessControl For Rasters: null
Child Resources:
Info
Histograms
Statistics
Key Properties
Legend
Raster Function Infos
Supported Operations:
Export Image
Identify
Measure
Compute Histograms
Compute Statistics Histograms
Get Samples
Compute Class Statistics
Query Boundary
Compute Pixel Location
Compute Angles
Validate
Project