View In:
ArcGIS JavaScript
ArcGIS Online Map Viewer
ArcGIS Earth
Service Description: Topography/RELIEF_REGIONAL
Name: Topography/RELIEF_REGIONAL
Description:
Single Fused Map Cache: false
Extent:
XMin: 1213344.6539451196
YMin: 113242.63647165697
XMax: 1630272.6539451196
YMax: 552058.636471657
Spatial Reference: 102748
(2285)
LatestVCSWkid(0)
Initial Extent:
XMin: 1213344.6539451196
YMin: 113242.63647165697
XMax: 1630272.6539451196
YMax: 552058.636471657
Spatial Reference: 102748
(2285)
LatestVCSWkid(0)
Full Extent:
XMin: 1213344.6539451196
YMin: 113242.63647165697
XMax: 1630272.6539451196
YMax: 552058.636471657
Spatial Reference: 102748
(2285)
LatestVCSWkid(0)
Pixel Size X: 96.0
Pixel Size Y: 96.0
Band Count: 3
Pixel Type: U8
RasterFunction Infos: {"rasterFunctionInfos": [{
"name": "None",
"description": "",
"help": ""
}]}
Mensuration Capabilities: Basic
Inspection Capabilities:
Has Histograms: true
Has Colormap: false
Has Multi Dimensions : false
Rendering Rule:
Min Scale: 0
Max Scale: 0
Copyright Text:
Service Data Type: esriImageServiceDataTypeRGB
Min Values: 0, 0, 0
Max Values: 255, 255, 255
Mean Values: 172.83387591072733, 175.78710707761135, 168.68844928480985
Standard Deviation Values: 56.721338605757076, 57.65920713491518, 56.134782061824396
Object ID Field:
Fields:
None
Default Mosaic Method: Center
Allowed Mosaic Methods:
SortField:
SortValue: null
Mosaic Operator: First
Default Compression Quality: 75
Default Resampling Method: Bilinear
Max Record Count: null
Max Image Height: 4100
Max Image Width: 15000
Max Download Image Count: null
Max Mosaic Image Count: null
Allow Raster Function: true
Allow Copy: true
Allow Analysis: true
Allow Compute TiePoints: false
Supports Statistics: false
Supports Advanced Queries: false
Use StandardizedQueries: true
Raster Type Infos:
Name: Raster Dataset
Description: Supports all ArcGIS Raster Datasets
Help:
Has Raster Attribute Table: false
Edit Fields Info: null
Ownership Based AccessControl For Rasters: null
Child Resources:
Info
Histograms
Statistics
Key Properties
Legend
Raster Function Infos
Supported Operations:
Export Image
Identify
Measure
Compute Histograms
Compute Statistics Histograms
Get Samples
Compute Class Statistics
Query Boundary
Compute Pixel Location
Compute Angles
Validate
Project