View In:
ArcGIS JavaScript
ArcGIS Online Map Viewer
ArcGIS Earth
Service Description: Topography/USGSTopoQuads
Name: Topography/USGSTopoQuads
Description:
Single Fused Map Cache: false
Extent:
XMin: 1230137.1422432214
YMin: 273557.76052083727
XMax: 1630002.5210300325
YMax: 505889.1359985999
Spatial Reference: 102748
(2285)
LatestVCSWkid(0)
Initial Extent:
XMin: 1230137.1422432214
YMin: 273557.76052083727
XMax: 1630002.5210300325
YMax: 505889.1359985999
Spatial Reference: 102748
(2285)
LatestVCSWkid(0)
Full Extent:
XMin: 1230137.1422432214
YMin: 273557.76052083727
XMax: 1630002.5210300325
YMax: 505889.1359985999
Spatial Reference: 102748
(2285)
LatestVCSWkid(0)
Pixel Size X: 8.281872722480658
Pixel Size Y: 8.28187272226723
Band Count: 3
Pixel Type: U8
RasterFunction Infos: {"rasterFunctionInfos": [{
"name": "None",
"description": "",
"help": ""
}]}
Mensuration Capabilities: Basic
Inspection Capabilities:
Has Histograms: true
Has Colormap: false
Has Multi Dimensions : false
Rendering Rule:
Min Scale: 0
Max Scale: 0
Copyright Text:
Service Data Type: esriImageServiceDataTypeRGB
Min Values: 0, 0, 0
Max Values: 255, 255, 255
Mean Values: 197.07769923423032, 210.19947022149526, 164.11147659250827
Standard Deviation Values: 51.132511977183384, 59.19750243341075, 64.68591362615688
Object ID Field:
Fields:
None
Default Mosaic Method: Center
Allowed Mosaic Methods:
SortField:
SortValue: null
Mosaic Operator: First
Default Compression Quality: 75
Default Resampling Method: Bilinear
Max Record Count: null
Max Image Height: 4100
Max Image Width: 15000
Max Download Image Count: null
Max Mosaic Image Count: null
Allow Raster Function: true
Allow Copy: true
Allow Analysis: true
Allow Compute TiePoints: false
Supports Statistics: false
Supports Advanced Queries: false
Use StandardizedQueries: true
Raster Type Infos:
Name: Raster Dataset
Description: Supports all ArcGIS Raster Datasets
Help:
Has Raster Attribute Table: false
Edit Fields Info: null
Ownership Based AccessControl For Rasters: null
Child Resources:
Info
Histograms
Statistics
Key Properties
Legend
Raster Function Infos
Supported Operations:
Export Image
Identify
Measure
Compute Histograms
Compute Statistics Histograms
Get Samples
Compute Class Statistics
Query Boundary
Compute Pixel Location
Compute Angles
Validate
Project