View In:
ArcGIS JavaScript
ArcGIS Online Map Viewer
ArcGIS Earth
Service Description: DEM_UAS/MartenCreekLowElev_tif
Name: DEM_UAS/MartenCreekLowElev_tif
Description:
Single Fused Map Cache: false
Extent:
XMin: 603694.1736300001
YMin: 5325018.07232
XMax: 603848.72059
YMax: 5325243.5184
Spatial Reference: 32610
(32610)
LatestVCSWkid(0)
Initial Extent:
XMin: 603694.1736300001
YMin: 5325018.07232
XMax: 603848.72059
YMax: 5325243.5184
Spatial Reference: 32610
(32610)
LatestVCSWkid(0)
Full Extent:
XMin: 603694.1736300001
YMin: 5325018.07232
XMax: 603848.72059
YMax: 5325243.5184
Spatial Reference: 32610
(32610)
LatestVCSWkid(0)
Pixel Size X: 0.004719999999998435
Pixel Size Y: 0.004720000000002927
Band Count: 4
Pixel Type: U8
RasterFunction Infos: {"rasterFunctionInfos": [{
"name": "None",
"description": "",
"help": ""
}]}
Mensuration Capabilities: Basic
Inspection Capabilities:
Has Histograms: true
Has Colormap: false
Has Multi Dimensions : false
Rendering Rule:
Min Scale: 0
Max Scale: 0
Copyright Text:
Service Data Type: esriImageServiceDataTypeGeneric
Min Values: 1, 1, 1, 255
Max Values: 255, 255, 255, 255
Mean Values: 98.991708627053, 101.22915338966, 94.654916208722, 255
Standard Deviation Values: 37.460805309463, 39.177975623671, 40.951415920964, 0
Object ID Field:
Fields:
None
Default Mosaic Method: Center
Allowed Mosaic Methods:
SortField:
SortValue: null
Mosaic Operator: First
Default Compression Quality: 75
Default Resampling Method: Bilinear
Max Record Count: null
Max Image Height: 4100
Max Image Width: 15000
Max Download Image Count: null
Max Mosaic Image Count: null
Allow Raster Function: true
Allow Copy: true
Allow Analysis: true
Allow Compute TiePoints: false
Supports Statistics: false
Supports Advanced Queries: false
Use StandardizedQueries: true
Raster Type Infos:
Name: Raster Dataset
Description: Supports all ArcGIS Raster Datasets
Help:
Has Raster Attribute Table: false
Edit Fields Info: null
Ownership Based AccessControl For Rasters: null
Child Resources:
Info
Histograms
Statistics
Key Properties
Legend
Raster Function Infos
Supported Operations:
Export Image
Identify
Measure
Compute Histograms
Compute Statistics Histograms
Get Samples
Compute Class Statistics
Query Boundary
Compute Pixel Location
Compute Angles
Validate
Project