View In:
ArcGIS JavaScript
ArcGIS Online Map Viewer
ArcGIS Earth
Service Description: DEM_UAS/OsoMemorial_16FEB2024_Clip
Name: DEM_UAS/OsoMemorial_16FEB2024_Clip
Description:
Single Fused Map Cache: false
Extent:
XMin: 585765.6037999997
YMin: 5347646.273700001
XMax: 586041.7562999995
YMax: 5347842.907199999
Spatial Reference: 32610
(32610)
LatestVCSWkid(0)
Initial Extent:
XMin: 585765.6037999997
YMin: 5347646.273700001
XMax: 586041.7562999995
YMax: 5347842.907199999
Spatial Reference: 32610
(32610)
LatestVCSWkid(0)
Full Extent:
XMin: 585765.6037999997
YMin: 5347646.273700001
XMax: 586041.7562999995
YMax: 5347842.907199999
Spatial Reference: 32610
(32610)
LatestVCSWkid(0)
Pixel Size X: 0.007459951915280431
Pixel Size Y: 0.007459823968989692
Band Count: 4
Pixel Type: U8
RasterFunction Infos: {"rasterFunctionInfos": [{
"name": "None",
"description": "",
"help": ""
}]}
Mensuration Capabilities: Basic
Inspection Capabilities:
Has Histograms: true
Has Colormap: false
Has Multi Dimensions : false
Rendering Rule:
Min Scale: 0
Max Scale: 0
Copyright Text:
Service Data Type: esriImageServiceDataTypeGeneric
Min Values: 0, 0, 0, 255
Max Values: 255, 255, 255, 255
Mean Values: 87.822930479847, 87.880306666391, 83.263921340599, 255
Standard Deviation Values: 59.381198233244, 57.386481480843, 54.049866543127, 0
Object ID Field:
Fields:
None
Default Mosaic Method: Center
Allowed Mosaic Methods:
SortField:
SortValue: null
Mosaic Operator: First
Default Compression Quality: 75
Default Resampling Method: Bilinear
Max Record Count: null
Max Image Height: 4100
Max Image Width: 15000
Max Download Image Count: null
Max Mosaic Image Count: null
Allow Raster Function: true
Allow Copy: true
Allow Analysis: true
Allow Compute TiePoints: false
Supports Statistics: false
Supports Advanced Queries: false
Use StandardizedQueries: true
Raster Type Infos:
Name: Raster Dataset
Description: Supports all ArcGIS Raster Datasets
Help:
Has Raster Attribute Table: false
Edit Fields Info: null
Ownership Based AccessControl For Rasters: null
Child Resources:
Info
Histograms
Statistics
Key Properties
Legend
Raster Function Infos
Supported Operations:
Export Image
Identify
Measure
Compute Histograms
Compute Statistics Histograms
Get Samples
Compute Class Statistics
Query Boundary
Compute Pixel Location
Compute Angles
Validate
Project