View In:
ArcGIS JavaScript
ArcGIS Online Map Viewer
ArcGIS Earth
Service Description: Imagery/Aerial_2007
Name: Imagery/Aerial_2007
Description:
Single Fused Map Cache: false
Extent:
XMin: 1253999.9999998764
YMin: 282000.99999455287
XMax: 1517998.9999998764
YMax: 479999.9999945528
Spatial Reference: 102748
(2285)
LatestVCSWkid(0)
Initial Extent:
XMin: 1253999.9999998764
YMin: 282000.99999455287
XMax: 1517998.9999998764
YMax: 479999.9999945528
Spatial Reference: 102748
(2285)
LatestVCSWkid(0)
Full Extent:
XMin: 1253999.9999998764
YMin: 282000.99999455287
XMax: 1517998.9999998764
YMax: 479999.9999945528
Spatial Reference: 102748
(2285)
LatestVCSWkid(0)
Pixel Size X: 1.0
Pixel Size Y: 0.9999999999999997
Band Count: 3
Pixel Type: U8
RasterFunction Infos: {"rasterFunctionInfos": [{
"name": "None",
"description": "",
"help": ""
}]}
Mensuration Capabilities: Basic
Inspection Capabilities:
Has Histograms: true
Has Colormap: false
Has Multi Dimensions : false
Rendering Rule:
Min Scale: 0
Max Scale: 0
Copyright Text:
Service Data Type: esriImageServiceDataTypeRGB
Min Values: 0, 0, 4
Max Values: 255, 255, 255
Mean Values: 106.35039246468, 118.37739403454, 114.46028257457
Standard Deviation Values: 79.62497845352, 73.38092346469, 75.076039372307
Object ID Field:
Fields:
None
Default Mosaic Method: Center
Allowed Mosaic Methods:
SortField:
SortValue: null
Mosaic Operator: First
Default Compression Quality: 75
Default Resampling Method: Bilinear
Max Record Count: null
Max Image Height: 4100
Max Image Width: 15000
Max Download Image Count: null
Max Mosaic Image Count: null
Allow Raster Function: true
Allow Copy: true
Allow Analysis: true
Allow Compute TiePoints: false
Supports Statistics: false
Supports Advanced Queries: false
Use StandardizedQueries: true
Raster Type Infos:
Name: Raster Dataset
Description: Supports all ArcGIS Raster Datasets
Help:
Has Raster Attribute Table: false
Edit Fields Info: null
Ownership Based AccessControl For Rasters: null
Child Resources:
Info
Histograms
Statistics
Key Properties
Legend
Raster Function Infos
Supported Operations:
Export Image
Identify
Measure
Compute Histograms
Compute Statistics Histograms
Get Samples
Compute Class Statistics
Query Boundary
Compute Pixel Location
Compute Angles
Validate
Project