View In:
ArcGIS JavaScript
ArcGIS Online Map Viewer
ArcGIS Earth
Service Description: Rivers/Aerial_Sauk_Lower_1972
Name: Rivers/Aerial_Sauk_Lower_1972
Description:
Single Fused Map Cache: false
Extent:
XMin: 1796905.7694640001
YMin: 487746.7754680003
XMax: 1836757.319504
YMax: 551484.047536
Spatial Reference: 32048
(32048)
LatestVCSWkid(0)
Initial Extent:
XMin: 1796905.7694640001
YMin: 487746.7754680003
XMax: 1836757.319504
YMax: 551484.047536
Spatial Reference: 32048
(32048)
LatestVCSWkid(0)
Full Extent:
XMin: 1796905.7694640001
YMin: 487746.7754680003
XMax: 1836757.319504
YMax: 551484.047536
Spatial Reference: 32048
(32048)
LatestVCSWkid(0)
Pixel Size X: 2.2916359999999933
Pixel Size Y: 2.2916359999999893
Band Count: 3
Pixel Type: U8
RasterFunction Infos: {"rasterFunctionInfos": [{
"name": "None",
"description": "",
"help": ""
}]}
Mensuration Capabilities: Basic
Inspection Capabilities:
Has Histograms: true
Has Colormap: false
Has Multi Dimensions : false
Rendering Rule:
Min Scale: 0
Max Scale: 0
Copyright Text:
Service Data Type: esriImageServiceDataTypeRGB
Min Values: 0, 0, 0
Max Values: 255, 255, 251
Mean Values: 49.841608202914, 42.447787371829, 41.950080949811
Standard Deviation Values: 57.61950444045, 50.103816659373, 47.88865978316
Object ID Field:
Fields:
None
Default Mosaic Method: Center
Allowed Mosaic Methods:
SortField:
SortValue: null
Mosaic Operator: First
Default Compression Quality: 75
Default Resampling Method: Bilinear
Max Record Count: null
Max Image Height: 4100
Max Image Width: 15000
Max Download Image Count: null
Max Mosaic Image Count: null
Allow Raster Function: true
Allow Copy: true
Allow Analysis: true
Allow Compute TiePoints: false
Supports Statistics: false
Supports Advanced Queries: false
Use StandardizedQueries: true
Raster Type Infos:
Name: Raster Dataset
Description: Supports all ArcGIS Raster Datasets
Help:
Has Raster Attribute Table: false
Edit Fields Info: null
Ownership Based AccessControl For Rasters: null
Child Resources:
Info
Histograms
Statistics
Key Properties
Legend
Raster Function Infos
Supported Operations:
Export Image
Identify
Measure
Compute Histograms
Compute Statistics Histograms
Get Samples
Compute Class Statistics
Query Boundary
Compute Pixel Location
Compute Angles
Validate
Project