View In:
ArcGIS JavaScript
ArcGIS Online Map Viewer
ArcGIS Earth
Service Description: Rivers/Aerial_Sauk_Lower_1992
Name: Rivers/Aerial_Sauk_Lower_1992
Description:
Single Fused Map Cache: false
Extent:
XMin: 1799226.0135915
YMin: 483746.3389665002
XMax: 1830834.0617115
YMax: 546502.0454085
Spatial Reference: 32048
(32048)
LatestVCSWkid(0)
Initial Extent:
XMin: 1799226.0135915
YMin: 483746.3389665002
XMax: 1830834.0617115
YMax: 546502.0454085
Spatial Reference: 32048
(32048)
LatestVCSWkid(0)
Full Extent:
XMin: 1799226.0135915
YMin: 483746.3389665002
XMax: 1830834.0617115
YMax: 546502.0454085
Spatial Reference: 32048
(32048)
LatestVCSWkid(0)
Pixel Size X: 0.8974459999999981
Pixel Size Y: 0.8974459999999974
Band Count: 3
Pixel Type: U8
RasterFunction Infos: {"rasterFunctionInfos": [{
"name": "None",
"description": "",
"help": ""
}]}
Mensuration Capabilities: Basic
Inspection Capabilities:
Has Histograms: true
Has Colormap: false
Has Multi Dimensions : false
Rendering Rule:
Min Scale: 0
Max Scale: 0
Copyright Text:
Service Data Type: esriImageServiceDataTypeRGB
Min Values: 0, 0, 0
Max Values: 255, 255, 255
Mean Values: 203.23749074368, 202.8041891463, 202.56225536867
Standard Deviation Values: 89.467753876682, 88.600886330282, 87.926884730235
Object ID Field:
Fields:
None
Default Mosaic Method: Center
Allowed Mosaic Methods:
SortField:
SortValue: null
Mosaic Operator: First
Default Compression Quality: 75
Default Resampling Method: Bilinear
Max Record Count: null
Max Image Height: 4100
Max Image Width: 15000
Max Download Image Count: null
Max Mosaic Image Count: null
Allow Raster Function: true
Allow Copy: true
Allow Analysis: true
Allow Compute TiePoints: false
Supports Statistics: false
Supports Advanced Queries: false
Use StandardizedQueries: true
Raster Type Infos:
Name: Raster Dataset
Description: Supports all ArcGIS Raster Datasets
Help:
Has Raster Attribute Table: false
Edit Fields Info: null
Ownership Based AccessControl For Rasters: null
Child Resources:
Info
Histograms
Statistics
Key Properties
Legend
Raster Function Infos
Supported Operations:
Export Image
Identify
Measure
Compute Histograms
Compute Statistics Histograms
Get Samples
Compute Class Statistics
Query Boundary
Compute Pixel Location
Compute Angles
Validate
Project