View In:
ArcGIS JavaScript
ArcGIS Online Map Viewer
ArcGIS Earth
Service Description: Rivers/Aerial_Sauk_Upper_1998
Name: Rivers/Aerial_Sauk_Upper_1998
Description:
Single Fused Map Cache: false
Extent:
XMin: 1811277.1634949853
YMin: 440556.8221942927
XMax: 1832061.2838189853
YMax: 494004.00935029256
Spatial Reference: 32048
(32048)
LatestVCSWkid(0)
Initial Extent:
XMin: 1811277.1634949853
YMin: 440556.8221942927
XMax: 1832061.2838189853
YMax: 494004.00935029256
Spatial Reference: 32048
(32048)
LatestVCSWkid(0)
Full Extent:
XMin: 1811277.1634949853
YMin: 440556.8221942927
XMax: 1832061.2838189853
YMax: 494004.00935029256
Spatial Reference: 32048
(32048)
LatestVCSWkid(0)
Pixel Size X: 1.076284000000001
Pixel Size Y: 1.0762839999999976
Band Count: 3
Pixel Type: U8
RasterFunction Infos: {"rasterFunctionInfos": [{
"name": "None",
"description": "",
"help": ""
}]}
Mensuration Capabilities: Basic
Inspection Capabilities:
Has Histograms: true
Has Colormap: false
Has Multi Dimensions : false
Rendering Rule:
Min Scale: 0
Max Scale: 0
Copyright Text:
Service Data Type: esriImageServiceDataTypeRGB
Min Values: 0, 0, 0
Max Values: 255, 255, 255
Mean Values: 184.84563212154, 188.27835051546, 191.4801953337
Standard Deviation Values: 93.687137599971, 87.900220914284, 82.349525796307
Object ID Field:
Fields:
None
Default Mosaic Method: Center
Allowed Mosaic Methods:
SortField:
SortValue: null
Mosaic Operator: First
Default Compression Quality: 75
Default Resampling Method: Bilinear
Max Record Count: null
Max Image Height: 4100
Max Image Width: 15000
Max Download Image Count: null
Max Mosaic Image Count: null
Allow Raster Function: true
Allow Copy: true
Allow Analysis: true
Allow Compute TiePoints: false
Supports Statistics: false
Supports Advanced Queries: false
Use StandardizedQueries: true
Raster Type Infos:
Name: Raster Dataset
Description: Supports all ArcGIS Raster Datasets
Help:
Has Raster Attribute Table: false
Edit Fields Info: null
Ownership Based AccessControl For Rasters: null
Child Resources:
Info
Histograms
Statistics
Key Properties
Legend
Raster Function Infos
Supported Operations:
Export Image
Identify
Measure
Compute Histograms
Compute Statistics Histograms
Get Samples
Compute Class Statistics
Query Boundary
Compute Pixel Location
Compute Angles
Validate
Project