View In:
ArcGIS JavaScript
ArcGIS Online Map Viewer
ArcGIS Earth
Service Description: Survey/Survey_1882_1916
Name: Survey/Survey_1882_1916
Description:
Single Fused Map Cache: false
Extent:
XMin: 1231124.8941368072
YMin: 283211.5000643358
XMax: 1457981.4339217704
YMax: 479735.9039849403
Spatial Reference: 102748
(2285)
VCSWkid(115702)
LatestVCSWkid(115702)
Initial Extent:
XMin: 1231124.8941368072
YMin: 283211.5000643358
XMax: 1457981.4339217704
YMax: 479735.9039849403
Spatial Reference: 102748
(2285)
VCSWkid(115702)
LatestVCSWkid(115702)
Full Extent:
XMin: 1231124.8941368072
YMin: 283211.5000643358
XMax: 1457981.4339217704
YMax: 479735.9039849403
Spatial Reference: 102748
(2285)
VCSWkid(115702)
LatestVCSWkid(115702)
Pixel Size X: 4.413122065654377
Pixel Size Y: 4.44132983616815
Band Count: 3
Pixel Type: U8
RasterFunction Infos: {"rasterFunctionInfos": [{
"name": "None",
"description": "",
"help": ""
}]}
Mensuration Capabilities: Basic
Inspection Capabilities:
Has Histograms: true
Has Colormap: false
Has Multi Dimensions : false
Rendering Rule:
Min Scale: 0
Max Scale: 0
Resampling: false
Copyright Text:
Service Data Type: esriImageServiceDataTypeRGB
Min Values: 0, 0, 0
Max Values: 255, 255, 255
Mean Values: 146.67371195361, 128.09393875771, 98.473824437957
Standard Deviation Values: 90.840310881404, 79.64619910902, 61.259365169716
Object ID Field:
Fields:
None
Default Mosaic Method: Center
Allowed Mosaic Methods:
SortField:
SortValue: null
Mosaic Operator: First
Default Compression Quality: 75
Default Resampling Method: Bilinear
Max Record Count: null
Max Image Height: 4100
Max Image Width: 15000
Max Download Image Count: null
Max Mosaic Image Count: null
Allow Raster Function: true
Allow Copy: true
Allow Analysis: true
Allow Compute TiePoints: false
Supports Statistics: false
Supports Advanced Queries: false
Use StandardizedQueries: true
Raster Type Infos:
Name: Raster Dataset
Description: Supports all ArcGIS Raster Datasets
Help:
Has Raster Attribute Table: false
Edit Fields Info: null
Ownership Based AccessControl For Rasters: null
Child Resources:
Info
Histograms
Statistics
Key Properties
Legend
Raster Function Infos
Supported Operations:
Export Image
Identify
Measure
Compute Histograms
Compute Statistics Histograms
Get Samples
Compute Class Statistics
Query Boundary
Compute Pixel Location
Compute Angles
Validate
Project