View In:
ArcGIS JavaScript
ArcGIS Online Map Viewer
ArcGIS Earth
Service Description: This raster was derived from LiDAR survey contracted by the US Geological Survey between 2013 -16. More information is available by reading this report, //snoco/gis_ortho/Lidar/3DEP_WA2015/documentation/Western_Washington_3DEP_Technical_Data_Report.pdf
Name: Topography/Elevation
Description: This raster was derived from LiDAR survey contracted by the US Geological Survey between 2013 -16. More information is available by reading this report, //snoco/gis_ortho/Lidar/3DEP_WA2015/documentation/Western_Washington_3DEP_Technical_Data_Report.pdf
Single Fused Map Cache: false
Extent:
XMin: 1254947.2500964748
YMin: 126979.37511660444
XMax: 1623342.499911292
YMax: 540611.3859838975
Spatial Reference: 102748
(2285)
LatestVCSWkid(0)
Initial Extent:
XMin: 1254947.2500964748
YMin: 126979.37511660444
XMax: 1623342.499911292
YMax: 540611.3859838975
Spatial Reference: 102748
(2285)
LatestVCSWkid(0)
Full Extent:
XMin: 1254947.2500964748
YMin: 126979.37511660444
XMax: 1623342.499911292
YMax: 540611.3859838975
Spatial Reference: 102748
(2285)
LatestVCSWkid(0)
Pixel Size X: 1.4999989813182457
Pixel Size Y: 1.4999982262054834
Band Count: 1
Pixel Type: F32
RasterFunction Infos: {"rasterFunctionInfos": [{
"name": "None",
"description": "",
"help": ""
}]}
Mensuration Capabilities: Basic
Inspection Capabilities:
Has Histograms: true
Has Colormap: false
Has Multi Dimensions : false
Rendering Rule:
Min Scale: 0
Max Scale: 0
Copyright Text: Snohomish County Information Technology
Service Data Type: esriImageServiceDataTypeGeneric
Min Values: -8
Max Values: 10544.404296875
Mean Values: 2292.3323551778
Standard Deviation Values: 1801.7148756716
Object ID Field:
Fields:
None
Default Mosaic Method: Center
Allowed Mosaic Methods:
SortField:
SortValue: null
Mosaic Operator: First
Default Compression Quality: 75
Default Resampling Method: Bilinear
Max Record Count: null
Max Image Height: 4100
Max Image Width: 15000
Max Download Image Count: null
Max Mosaic Image Count: null
Allow Raster Function: true
Allow Copy: true
Allow Analysis: true
Allow Compute TiePoints: false
Supports Statistics: false
Supports Advanced Queries: false
Use StandardizedQueries: true
Raster Type Infos:
Name: Raster Dataset
Description: Supports all ArcGIS Raster Datasets
Help:
Has Raster Attribute Table: false
Edit Fields Info: null
Ownership Based AccessControl For Rasters: null
Child Resources:
Info
Histograms
Statistics
Key Properties
Legend
Raster Function Infos
Supported Operations:
Export Image
Identify
Measure
Compute Histograms
Compute Statistics Histograms
Get Samples
Compute Class Statistics
Query Boundary
Compute Pixel Location
Compute Angles
Validate
Project