View In:
ArcGIS JavaScript
ArcGIS Online Map Viewer
ArcGIS Earth
Service Description: This raster was derived from LiDAR survey contracted by the US Geological Survey between 2013 -16. More information is available by reading this report, //snoco/gis_ortho/Lidar/3DEP_WA2015/documentation/Western_Washington_3DEP_Technical_Data_Report.pdf
Name: MapService/pds_elevation
Description:
Single Fused Map Cache: false
Extent:
XMin: 1253544.57021712
YMin: 284328.0714949826
XMax: 1611456.57021712
YMax: 477036.0714949826
Spatial Reference: 102748
(2285)
LatestVCSWkid(0)
Initial Extent:
XMin: 1253544.57021712
YMin: 284328.0714949826
XMax: 1611456.57021712
YMax: 477036.0714949826
Spatial Reference: 102748
(2285)
LatestVCSWkid(0)
Full Extent:
XMin: 1253544.57021712
YMin: 284328.0714949826
XMax: 1611456.57021712
YMax: 477036.0714949826
Spatial Reference: 102748
(2285)
LatestVCSWkid(0)
Pixel Size X: 36.0
Pixel Size Y: 36.0
Band Count: 1
Pixel Type: F32
RasterFunction Infos: {"rasterFunctionInfos": [{
"name": "None",
"description": "",
"help": ""
}]}
Mensuration Capabilities: Basic
Inspection Capabilities:
Has Histograms: true
Has Colormap: false
Has Multi Dimensions : false
Rendering Rule:
Min Scale: 0
Max Scale: 0
Copyright Text: Snohomish County Information Technology
Service Data Type: esriImageServiceDataTypeGeneric
Min Values: -7.732500076293945
Max Values: 10541.796875
Mean Values: 1782.2384455597717
Standard Deviation Values: 1804.9010040700664
Object ID Field:
Fields:
None
Default Mosaic Method: Center
Allowed Mosaic Methods:
SortField:
SortValue: null
Mosaic Operator: First
Default Compression Quality: 75
Default Resampling Method: Bilinear
Max Record Count: null
Max Image Height: 4100
Max Image Width: 15000
Max Download Image Count: null
Max Mosaic Image Count: null
Allow Raster Function: true
Allow Copy: true
Allow Analysis: true
Allow Compute TiePoints: false
Supports Statistics: false
Supports Advanced Queries: false
Use StandardizedQueries: true
Raster Type Infos:
Name: Raster Dataset
Description: Supports all ArcGIS Raster Datasets
Help:
Has Raster Attribute Table: false
Edit Fields Info: null
Ownership Based AccessControl For Rasters: null
Child Resources:
Info
Histograms
Statistics
Key Properties
Legend
Raster Function Infos
Supported Operations:
Export Image
Identify
Measure
Compute Histograms
Compute Statistics Histograms
Get Samples
Compute Class Statistics
Query Boundary
Compute Pixel Location
Compute Angles
Validate
Project