View In:
ArcGIS JavaScript
ArcGIS Online Map Viewer
ArcGIS Earth
Service Description: For Snohomish County, the roof snow load may be greater than or equal to 25 pounds per square foot (psf) depending on the elevation of the site location. Applicants for building permits must account for the ground snow load calculations, as verified by the Plans Examiner. Map algebra and raster calculations derived the Snow Load by multiplying the elevation times the Snow Load factor. These pixel-values represent the actual Snow Load calculation in psf at that spot.
[ Snow Load Calculation {psf} = (Snow Load Factor {pixel-value}) x (Elevation {ft.}) ]
As the American Society of Civil Engineers states that "in civil engineering, design loads are defined as the maximum amount that a structure can handle". Since the International Code Council (ICC), as with the historical Universal Building Codes (UBC), indicates in section 1608.2 that "Ground snow loads" for the area of Snohomish County falls under a Case Study (CS). The Washington Association of Building Officials (WABO) and Structural Engineers Association of Washington (SEAW) organizations have a White Paper which provides more detailed information. During the early 2000's, PDS Engineers and Plans Examiners decided on the iso-lines for the Snow Load factor. Further interpolations and vector-to-raster transformations occurred. In 2007, the Snohomish County Code (SCC) 30.52F.300TableR 301.2(1) was amended in to establish a Minimum Roof Snow Load of 25 psf. In 2015, the PDS created a web application (PDS Map Portal) that allows users to find Snow Loads at any given location as compiled in a PDS Property Report.
Name: MapService/pds_snowload
Description:
Single Fused Map Cache: false
Extent:
XMin: 1244714.0060222347
YMin: 284276.07398362743
XMax: 1622426.0060222347
YMax: 477596.07398362743
Spatial Reference: 102748
(2285)
LatestVCSWkid(0)
Initial Extent:
XMin: 1244714.0060222347
YMin: 284276.07398362743
XMax: 1622426.0060222347
YMax: 477596.07398362743
Spatial Reference: 102748
(2285)
LatestVCSWkid(0)
Full Extent:
XMin: 1244714.0060222347
YMin: 284276.07398362743
XMax: 1622426.0060222347
YMax: 477596.07398362743
Spatial Reference: 102748
(2285)
LatestVCSWkid(0)
Pixel Size X: 36.0
Pixel Size Y: 36.0
Band Count: 1
Pixel Type: U16
RasterFunction Infos: {"rasterFunctionInfos": [{
"name": "None",
"description": "",
"help": ""
}]}
Mensuration Capabilities: Basic
Inspection Capabilities:
Has Histograms: true
Has Colormap: false
Has Multi Dimensions : false
Rendering Rule:
Min Scale: 0
Max Scale: 0
Copyright Text: PDS; ICC; ASCE; WABO; SEAW.
Service Data Type: esriImageServiceDataTypeGeneric
Min Values: 25
Max Values: 1002
Mean Values: 174.93848070080006
Standard Deviation Values: 169.44918415738013
Object ID Field:
Fields:
None
Default Mosaic Method: Center
Allowed Mosaic Methods:
SortField:
SortValue: null
Mosaic Operator: First
Default Compression Quality: 75
Default Resampling Method: Bilinear
Max Record Count: null
Max Image Height: 4100
Max Image Width: 15000
Max Download Image Count: null
Max Mosaic Image Count: null
Allow Raster Function: true
Allow Copy: true
Allow Analysis: true
Allow Compute TiePoints: false
Supports Statistics: false
Supports Advanced Queries: false
Use StandardizedQueries: true
Raster Type Infos:
Name: Raster Dataset
Description: Supports all ArcGIS Raster Datasets
Help:
Has Raster Attribute Table: false
Edit Fields Info: null
Ownership Based AccessControl For Rasters: null
Child Resources:
Info
Histograms
Statistics
Key Properties
Legend
Raster Function Infos
Supported Operations:
Export Image
Identify
Measure
Compute Histograms
Compute Statistics Histograms
Get Samples
Compute Class Statistics
Query Boundary
Compute Pixel Location
Compute Angles
Validate
Project